BEGIN:VCALENDAR
VERSION:2.0
PRODID:-//Cnam Hauts de France - ECPv6.2.9//NONSGML v1.0//EN
CALSCALE:GREGORIAN
METHOD:PUBLISH
X-ORIGINAL-URL:https://www.cnam-hauts-de-france.fr
X-WR-CALDESC:évènements pour Cnam Hauts de France
REFRESH-INTERVAL;VALUE=DURATION:PT1H
X-Robots-Tag:noindex
X-PUBLISHED-TTL:PT1H
BEGIN:VTIMEZONE
TZID:Europe/Paris
BEGIN:DAYLIGHT
TZOFFSETFROM:+0100
TZOFFSETTO:+0200
TZNAME:CEST
DTSTART:20250330T010000
END:DAYLIGHT
BEGIN:STANDARD
TZOFFSETFROM:+0200
TZOFFSETTO:+0100
TZNAME:CET
DTSTART:20251026T010000
END:STANDARD
END:VTIMEZONE
BEGIN:VEVENT
DTSTART;TZID=Europe/Paris:20250611T100000
DTEND;TZID=Europe/Paris:20250611T170000
DTSTAMP:20260421T181841
CREATED:20250428T131141Z
LAST-MODIFIED:20250428T131610Z
UID:27685-1749636000-1749661200@www.cnam-hauts-de-france.fr
SUMMARY:Job City Tour : Emploi et formation - FOURMIES
DESCRIPTION:Venez rencontrer nos conseillers au Job City Tour – Forum Emploi et formation de FOURMIES et obtenir toutes les infos sur notre offre de formations en présentiel et à distance\, en alternance\, nos services d’accompagnement VAE et de Bilans de compétences…\n📅 Mercredi 11 Juin – de 10h à 17h \n📌 Le Central – 42 Rue St Louis à FOURMIES \n 
URL:https://www.cnam-hauts-de-france.fr/event/job-city-tour-emploi-et-formation-fourmies/
LOCATION:Le central\, 42 Rue Saint-Louis\, Fourmies\, 59610
CATEGORIES:Forum,Salon alternance apprentissage,Salon formations / emploi
END:VEVENT
END:VCALENDAR