BEGIN:VCALENDAR
VERSION:2.0
PRODID:-//Cnam Hauts de France - ECPv6.2.9//NONSGML v1.0//EN
CALSCALE:GREGORIAN
METHOD:PUBLISH
X-ORIGINAL-URL:https://www.cnam-hauts-de-france.fr
X-WR-CALDESC:évènements pour Cnam Hauts de France
REFRESH-INTERVAL;VALUE=DURATION:PT1H
X-Robots-Tag:noindex
X-PUBLISHED-TTL:PT1H
BEGIN:VTIMEZONE
TZID:Europe/Paris
BEGIN:DAYLIGHT
TZOFFSETFROM:+0100
TZOFFSETTO:+0200
TZNAME:CEST
DTSTART:20240331T010000
END:DAYLIGHT
BEGIN:STANDARD
TZOFFSETFROM:+0200
TZOFFSETTO:+0100
TZNAME:CET
DTSTART:20241027T010000
END:STANDARD
END:VTIMEZONE
BEGIN:VEVENT
DTSTART;TZID=Europe/Paris:20241105T080000
DTEND;TZID=Europe/Paris:20241105T120000
DTSTAMP:20260422T053347
CREATED:20241002T082808Z
LAST-MODIFIED:20241002T084550Z
UID:24164-1730793600-1730808000@www.cnam-hauts-de-france.fr
SUMMARY:Les matinales VAE - MARCQ EN BAROEUL
DESCRIPTION:Une matinée 100% VAE organisée autour de témoignages\, de rencontres avec les acteurs\, d’ateliers et d’échanges. \nPour tout savoir sur la VAE\, rendez-vous le mardi 5 novembre à l’hôtel Mercure Lille – Marcq en Baroeul\, 157 Avenue de la Marne à Marcq en Baroeul. \nau programme :\n– de 8h à  10h à destination des entreprises (Participation sur inscription uniquement via le formulaire en ligne)\n– de 10 à 12h à destination des usagers (Accès public et visite libre à partir de 10h) \nFrançois Xavier Ribes\, notre conseiller VAE sur le Territoire Nord-Pas de Calais sera présent pour présenter l’accompagnement VAE proposé par le Cnam. \n \n+ d’info sur la VAE au Cnam
URL:https://www.cnam-hauts-de-france.fr/event/les-matinales-vae-marcq-en-baroeul/
END:VEVENT
BEGIN:VEVENT
DTSTART;TZID=Europe/Paris:20241121T100000
DTEND;TZID=Europe/Paris:20241121T170000
DTSTAMP:20260422T053347
CREATED:20240930T095012Z
LAST-MODIFIED:20240930T095012Z
UID:24114-1732183200-1732208400@www.cnam-hauts-de-france.fr
SUMMARY:Salon 24h Emploi / Formation - AMIENS
DESCRIPTION:Nous serons présent sur ce salon 24h pour l’emploi et la formation à Amiens pour vous présenter notre offre de formations en présentiel et à distance\, en alternance\, nos services d’accompagnement VAE et de Bilans de compétences. \n+ d’info sur notre offre de formations et de services \n+d’info sur notre offre de formations en présentiel journée
URL:https://www.cnam-hauts-de-france.fr/event/salon-24h-emploi-formation-amiens/
LOCATION:Stade de la Licorne\, 25 Rue du Chapitre\, AMIENS\, 80000
CATEGORIES:Forum,Salon alternance apprentissage,Salon formations / emploi
END:VEVENT
END:VCALENDAR