BEGIN:VCALENDAR
VERSION:2.0
PRODID:-//Cnam Hauts de France - ECPv6.2.9//NONSGML v1.0//EN
CALSCALE:GREGORIAN
METHOD:PUBLISH
X-ORIGINAL-URL:https://www.cnam-hauts-de-france.fr
X-WR-CALDESC:évènements pour Cnam Hauts de France
REFRESH-INTERVAL;VALUE=DURATION:PT1H
X-Robots-Tag:noindex
X-PUBLISHED-TTL:PT1H
BEGIN:VTIMEZONE
TZID:Europe/Paris
BEGIN:DAYLIGHT
TZOFFSETFROM:+0100
TZOFFSETTO:+0200
TZNAME:CEST
DTSTART:20240331T010000
END:DAYLIGHT
BEGIN:STANDARD
TZOFFSETFROM:+0200
TZOFFSETTO:+0100
TZNAME:CET
DTSTART:20241027T010000
END:STANDARD
END:VTIMEZONE
BEGIN:VEVENT
DTSTART;TZID=Europe/Paris:20240411T090000
DTEND;TZID=Europe/Paris:20240411T160000
DTSTAMP:20260422T170735
CREATED:20240318T130909Z
LAST-MODIFIED:20240402T145908Z
UID:20394-1712826000-1712851200@www.cnam-hauts-de-france.fr
SUMMARY:Les rencontres de l'alternance et de la formation - HAZEBROUCK
DESCRIPTION:Nous serons présents sur ce forum « Les rencontres de l’alternance et de la formation » pour présenter notre offre de près de 70 diplômes en alternance de bac+2 à bac+5\, Licence\, masters… \n> Voir toute notre offre de formations en présentiel et à distance\, en alternance\, nos services d’accompagnement VAE et de Bilans de compétences \n\nlieu : Salle des Augustins – Place Georges Degroote – Hazebrouck\nHoraires : accueil du public aura lieu de 9h à 16h
URL:https://www.cnam-hauts-de-france.fr/event/les-rencontres-de-lalternance-et-de-la-formation-hazebrouck/
LOCATION:Salle des Augustins Hazebrouck\, Place Georges Degroote\, Hazebrouck\, 59190\, France
END:VEVENT
BEGIN:VEVENT
DTSTART;TZID=Europe/Paris:20240418T141500
DTEND;TZID=Europe/Paris:20240418T150000
DTSTAMP:20260422T170735
CREATED:20240319T151013Z
LAST-MODIFIED:20240319T155409Z
UID:20468-1713449700-1713452400@www.cnam-hauts-de-france.fr
SUMMARY:Conférence : Comment réussir sa reconversion professionnelle ? - VALENCIENNES
DESCRIPTION:Fanny FIEVET\, Responsable du centre Cnam de Valenciennes animera une conférence sur le thème  » Réussir sa reconversion professionnelle » \nle jeudi 18 avril à 14H15 lors du Salon 24 Heures pour l’emploi et la formation – Cité des congrés à Anzin. \nCette conférence est gratuite et ouverte à tous.
URL:https://www.cnam-hauts-de-france.fr/event/conference-comment-reussir-sa-reconversion-professionnelle-valenciennes/
LOCATION:Cité des congrés (Anzin)\, 1 Esplanade des Rives Créatives de l'Escaut\, Anzin\, 59410\, France
CATEGORIES:Conférence
END:VEVENT
BEGIN:VEVENT
DTSTART;TZID=Europe/Paris:20240422T140000
DTEND;TZID=Europe/Paris:20240422T150000
DTSTAMP:20260422T170735
CREATED:20240311T131235Z
LAST-MODIFIED:20240311T140141Z
UID:20247-1713794400-1713798000@www.cnam-hauts-de-france.fr
SUMMARY:Réunion d'information - Licence pro Comptabilité et paie
DESCRIPTION:Vous souhaitez devenir Gestionnaire de paie\, nous proposons une Licence pro comptabilité et paie en alternance ou en formation continue. \nProchaine session à partir d’octobre 2024. Formation finançable jusqu’à 100%. \nRéunion d’information en visio\, durée 1 heure\, gratuit\, inscription obligatoire \nPrésentation de la formation\, de l’organisation en alternance ou en formation continue\, de l’équipe enseignante\, des possibilités de financement et de rémunération… \nInscrivez vous en ligne :https://forms.gle/wCc8cT4xVAE2ZUNL6
URL:https://www.cnam-hauts-de-france.fr/event/reunion-dinformation-licence-pro-comptabilite-et-paie/
LOCATION:Réunion en ligne\, Internet
CATEGORIES:Réunion d'information virtuelle (en ligne)
END:VEVENT
END:VCALENDAR