BEGIN:VCALENDAR
VERSION:2.0
PRODID:-//Cnam Hauts de France - ECPv6.2.9//NONSGML v1.0//EN
CALSCALE:GREGORIAN
METHOD:PUBLISH
X-WR-CALNAME:Cnam Hauts de France
X-ORIGINAL-URL:https://www.cnam-hauts-de-france.fr
X-WR-CALDESC:évènements pour Cnam Hauts de France
REFRESH-INTERVAL;VALUE=DURATION:PT1H
X-Robots-Tag:noindex
X-PUBLISHED-TTL:PT1H
BEGIN:VTIMEZONE
TZID:Europe/Paris
BEGIN:DAYLIGHT
TZOFFSETFROM:+0100
TZOFFSETTO:+0200
TZNAME:CEST
DTSTART:20230326T010000
END:DAYLIGHT
BEGIN:STANDARD
TZOFFSETFROM:+0200
TZOFFSETTO:+0100
TZNAME:CET
DTSTART:20231029T010000
END:STANDARD
END:VTIMEZONE
BEGIN:VEVENT
DTSTART;TZID=Europe/Paris:20230905T150000
DTEND;TZID=Europe/Paris:20230905T160000
DTSTAMP:20260423T041139
CREATED:20230608T100047Z
LAST-MODIFIED:20230608T112638Z
UID:752-1693926000-1693929600@www.cnam-hauts-de-france.fr
SUMMARY:Présentation de la formation DEUST Comptabilité - VALENCIENNES
DESCRIPTION:Programme\, objectifs\, public concerné et financement de la formation DEUST Comptabilité Contrôle Audit au centre Cnam de Valenciennes.\nCette formation est accessible aux salariés et aux demandeurs d’emploi de niveau bac dans le cadre de la formation continue.\nDurée : 9 mois. Prochaine session d’octobre 2023 à juin 2024. \n> voir le programme de la formation DEUST Comptabilité Contrôle Audit \nLieu : Cnam Hauts-de-France – Centre de Valenciennes\n15 bis\, place Jehan Froissart – 59300 VALENCIENNES\nTél. 03.27.23.04.05 \nentrée libre et gratuite
URL:https://www.cnam-hauts-de-france.fr/event/presentation-de-la-formation-assistant-de-gestion-parcours-logistique-et-transport/
LOCATION:Centre de Valenciennes\, 15 bis\, Place Jehan Froissart\, VALENCIENNES\, 59302\, France
CATEGORIES:Réunion d'information
ORGANIZER;CN="Centre Cnam de Valenciennes":MAILTO:hdf_valenciennes@lecnam.net
END:VEVENT
BEGIN:VEVENT
DTSTART;TZID=Europe/Paris:20230908T100000
DTEND;TZID=Europe/Paris:20230908T170000
DTSTAMP:20260423T041139
CREATED:20230608T110146Z
LAST-MODIFIED:20230720T085331Z
UID:15135-1694167200-1694192400@www.cnam-hauts-de-france.fr
SUMMARY:Journée Portes Ouvertes à ARRAS\, MAUBEUGE et ST-OMER
DESCRIPTION:Venez rencontrer nos conseillers et découvrir l’offre de formations 2023/2024 de plus de 700 parcours du Cnam\, pour se former tout au long de la vie.\n \nJournée Portes Ouvertes à Arras\, Maubeuge et Saint Omer. le vendredi 8 septembre 2023 – de 10h à 16h non stop.\n\nARRAS : Maison de l’Emploi et des Métiers\, 13ter Boulevard Robert Shuman\nMAUBEUGE : Pôle Lafitte 1er étage\, 1907 La grimpette\nSAINT OMER : La station\, Place du 8 mai\n\nPériode d’information et d’inscriptions du 11 septembre au 14 octobre (sur rdv\, organisation à préciser)\n> en savoir + sur notre offre de formations et de services \nAdresses de nos centres et contacts :\nCentre d’Amiens : Avenue des facultés – 80000 Amiens\nCentre de Lille : 5\, 7 et 8 Boulevard Louis XIV – 59000 Lille\nCentre de Valenciennes : 15 bis Place Jehan Froissart – 59300 Valenciennes\n  \nContact au 0800 719 720
URL:https://www.cnam-hauts-de-france.fr/event/journees-portes-ouvertes-a-arras-maubeuge-et-st-omer/
CATEGORIES:Journée d'information,JPO,Réunion d'information
END:VEVENT
BEGIN:VEVENT
DTSTART;TZID=Europe/Paris:20230909T093000
DTEND;TZID=Europe/Paris:20230909T123000
DTSTAMP:20260423T041139
CREATED:20230608T100001Z
LAST-MODIFIED:20230608T112450Z
UID:5705-1694251800-1694262600@www.cnam-hauts-de-france.fr
SUMMARY:Journée Portes Ouvertes des centres de LILLE et de VALENCIENNES
DESCRIPTION:Venez rencontrer nos conseillers et découvrir l’offre de formations 2023/2024 de plus de 700 parcours du Cnam\, pour se former tout au long de la vie.\n \nJournée Portes Ouvertes dans nos centres Lille et Valenciennes le samedi 9 septembre 2023 de 9h30 à 12h30Période d’information et d’inscriptions du 11 septembre au 7 octobre (sur rdv\, organisation à préciser)\n> en savoir + sur notre offre de formations et de services \nAdresses de nos centres et contacts :\nCentre d’Amiens : Avenue des facultés – 80000 Amiens\nCentre de Lille : 5\, 7 et 8 Boulevard Louis XIV – 59000 Lille\nCentre de Valenciennes : 15 bis Place Jehan Froissart – 59300 Valenciennes\n  \nContact au 0800 719 720 \n \n  \n 
URL:https://www.cnam-hauts-de-france.fr/event/journee-portes-ouvertes-formations-2022-2023/
CATEGORIES:JPO
END:VEVENT
BEGIN:VEVENT
DTSTART;VALUE=DATE:20230912
DTEND;VALUE=DATE:20231015
DTSTAMP:20260423T041139
CREATED:20230912T070929Z
LAST-MODIFIED:20230912T074948Z
UID:16597-1694476800-1697327999@www.cnam-hauts-de-france.fr
SUMMARY:Infos. / Inscriptions - Formations 2023/2024
DESCRIPTION:Venez rencontrer nos conseillers et découvrir l’offre de formations 2023/2024 de plus de 700 parcours du Cnam\, pour se former tout au long de la vie.\n \nFormations en présentiel ou à distance\, en semaine en journée\, en cours du soir ou le samedi matin… voir les organisations possibles \nPériode d’information et d’inscriptions :\ndu 1er au 30 septembre 2023\, au centre d’Amiens (sur rdv)\ndu 11 septembre au 14 octobre 2023\, centres de Lille et de Valenciennes (sur rdv) \nContact au 0800 719 720 \n \nCentre d’Amiens – Avenue des Facultés – 03 22 33 65 50\nCentre de Lille – 5\, 7 et 8 Bd. Louis XIV – 03 20 29 86 68\nCentre de Valenciennes – 15 bis Place Jehan Froissart – 03 27 23 04 05
URL:https://www.cnam-hauts-de-france.fr/event/infos-inscriptions-formations-2023-2024/
CATEGORIES:Période d'Info/Inscriptions
END:VEVENT
END:VCALENDAR