BEGIN:VCALENDAR
VERSION:2.0
PRODID:-//Cnam Hauts de France - ECPv6.2.9//NONSGML v1.0//EN
CALSCALE:GREGORIAN
METHOD:PUBLISH
X-ORIGINAL-URL:https://www.cnam-hauts-de-france.fr
X-WR-CALDESC:évènements pour Cnam Hauts de France
REFRESH-INTERVAL;VALUE=DURATION:PT1H
X-Robots-Tag:noindex
X-PUBLISHED-TTL:PT1H
BEGIN:VTIMEZONE
TZID:Europe/Paris
BEGIN:DAYLIGHT
TZOFFSETFROM:+0100
TZOFFSETTO:+0200
TZNAME:CEST
DTSTART:20230326T010000
END:DAYLIGHT
BEGIN:STANDARD
TZOFFSETFROM:+0200
TZOFFSETTO:+0100
TZNAME:CET
DTSTART:20231029T010000
END:STANDARD
END:VTIMEZONE
BEGIN:VEVENT
DTSTART;TZID=Europe/Paris:20230704T130000
DTEND;TZID=Europe/Paris:20230704T140000
DTSTAMP:20260423T065949
CREATED:20220308T150753Z
LAST-MODIFIED:20230630T085304Z
UID:7764-1688475600-1688479200@www.cnam-hauts-de-france.fr
SUMMARY:Réunion d’info. VAE - en visio
DESCRIPTION:Pour bien démarrer votre VAE au CNAM\, nous vous invitons à l’une des réunions sur la procédure VAE du CNAM. \nCette réunion d’information se déroule en visioconférence sur internet avec Microsoft Teams. \nInscription obligatoire dans DIVA pour recevoir le lien d’inscription : https://sdnf.cnam.fr/diva/ \n \n \n+ d’info sur la VAE au Cnam HdF \n 
URL:https://www.cnam-hauts-de-france.fr/event/reunion-dinfo-vae-9/
CATEGORIES:Réunion d'information,Réunion d'information virtuelle (en ligne)
END:VEVENT
BEGIN:VEVENT
DTSTART;TZID=Europe/Paris:20230713T140000
DTEND;TZID=Europe/Paris:20230713T180000
DTSTAMP:20260423T065949
CREATED:20230324T104222Z
LAST-MODIFIED:20230627T142927Z
UID:13779-1689256800-1689271200@www.cnam-hauts-de-france.fr
SUMMARY:Les jeudis de l'Alternance - LILLE et VALENCIENNES
DESCRIPTION:Chaque jeudi après midi jusqu’au 20 juillet\, nos équipes des centres de Lille et de Valenciennes seront à votre disposition. Venez échanger sur votre projet de formation en alternance\, visiter nos locaux et poser toutes vos questions. \n Il sera également possible de rencontrer un.e responsable du diplôme en alternance qui vous intéresse\, uniquement sur rendez-vous en s’inscrivant ci-dessous (visio possible)  \n \n\n\n \n  \nContact au 0800 719 720 \nCentre Cnam de LILLE : 5\, 7 et 8 Bd. Louis XIV \nCentre Cnam de Valenciennes : 15 bis\, Place Jehan Froissart
URL:https://www.cnam-hauts-de-france.fr/event/les-jeudis-de-lalternance-lille-et-valenciennes-5/
CATEGORIES:Rencontres Alternance
END:VEVENT
BEGIN:VEVENT
DTSTART;TZID=Europe/Paris:20230720T140000
DTEND;TZID=Europe/Paris:20230720T180000
DTSTAMP:20260423T065949
CREATED:20230324T103724Z
LAST-MODIFIED:20230627T143013Z
UID:13772-1689861600-1689876000@www.cnam-hauts-de-france.fr
SUMMARY:Les jeudis de l'Alternance - LILLE et VALENCIENNES
DESCRIPTION:Chaque jeudi après midi jusqu’au 20 juillet\, nos équipes des centres de Lille et de Valenciennes seront à votre disposition. Venez échanger sur votre projet de formation en alternance\, visiter nos locaux et poser toutes vos questions. \n Il sera également possible de rencontrer un.e responsable du diplôme en alternance qui vous intéresse\, uniquement sur rendez-vous en s’inscrivant ci-dessous (visio possible)  \n \n\n\n\n  \nContact au 0800 719 720  \nCentre Cnam de LILLE : 5\, 7 et 8 Bd. Louis XIV \nCentre Cnam de Valenciennes : 15 bis\, Place Jehan Froissart
URL:https://www.cnam-hauts-de-france.fr/event/les-jeudis-de-lalternance-lille-et-valenciennes-3/
CATEGORIES:Rencontres Alternance
END:VEVENT
BEGIN:VEVENT
DTSTART;TZID=Europe/Paris:20230721T130000
DTEND;TZID=Europe/Paris:20230721T140000
DTSTAMP:20260423T065949
CREATED:20230630T085422Z
LAST-MODIFIED:20230630T085422Z
UID:15549-1689944400-1689948000@www.cnam-hauts-de-france.fr
SUMMARY:Réunion d’info. VAE - en visio
DESCRIPTION:Pour bien démarrer votre VAE au CNAM\, nous vous invitons à l’une des réunions sur la procédure VAE du CNAM. \nCette réunion d’information se déroule en visioconférence sur internet avec Microsoft Teams. \nInscription obligatoire dans DIVA pour recevoir le lien d’inscription : https://sdnf.cnam.fr/diva/ \n \n \n+ d’info sur la VAE au Cnam HdF \n 
URL:https://www.cnam-hauts-de-france.fr/event/reunion-dinfo-vae-en-visio/
END:VEVENT
END:VCALENDAR