BEGIN:VCALENDAR
VERSION:2.0
PRODID:-//Cnam Hauts de France - ECPv6.2.9//NONSGML v1.0//EN
CALSCALE:GREGORIAN
METHOD:PUBLISH
X-WR-CALNAME:Cnam Hauts de France
X-ORIGINAL-URL:https://www.cnam-hauts-de-france.fr
X-WR-CALDESC:évènements pour Cnam Hauts de France
REFRESH-INTERVAL;VALUE=DURATION:PT1H
X-Robots-Tag:noindex
X-PUBLISHED-TTL:PT1H
BEGIN:VTIMEZONE
TZID:Europe/Paris
BEGIN:DAYLIGHT
TZOFFSETFROM:+0100
TZOFFSETTO:+0200
TZNAME:CEST
DTSTART:20230326T010000
END:DAYLIGHT
BEGIN:STANDARD
TZOFFSETFROM:+0200
TZOFFSETTO:+0100
TZNAME:CET
DTSTART:20231029T010000
END:STANDARD
END:VTIMEZONE
BEGIN:VEVENT
DTSTART;TZID=Europe/Paris:20230603T100000
DTEND;TZID=Europe/Paris:20230603T110000
DTSTAMP:20260423T080904
CREATED:20230425T132515Z
LAST-MODIFIED:20230425T132515Z
UID:14366-1685786400-1685790000@www.cnam-hauts-de-france.fr
SUMMARY:Réunion de présentation générale de l’offre HTT - LILLE
DESCRIPTION:Nous vous proposons des réunions d’infos collectives pour présenter notre offre de formations Hors Temps de Travail\, en présentiel et à distance \nles samedis 03 juin et 24 juin à partir de 10h\, en présentiel au centre de Lille (au 8 Bd. Louis XIV\, Lille) ou en visio. \nInscription obligatoire \nInscrivez vous en ligne
URL:https://www.cnam-hauts-de-france.fr/event/reunion-de-presentation-generale-de-loffre-htt-lille/
LOCATION:Cnam de Lille\, 8 boulevard Louis XIV\, LILLE\, 59044
CATEGORIES:Réunion d'information,Réunion d'information virtuelle (en ligne)
END:VEVENT
BEGIN:VEVENT
DTSTART;TZID=Europe/Paris:20230617T100000
DTEND;TZID=Europe/Paris:20230617T110000
DTSTAMP:20260423T080904
CREATED:20230425T122029Z
LAST-MODIFIED:20230425T122643Z
UID:14356-1686996000-1686999600@www.cnam-hauts-de-france.fr
SUMMARY:Présentation du Titre de Psychologue du travail (HTT) - LILLE
DESCRIPTION:Nous vous proposons une réunion d’infos collective pour présenter la formation au Titre de Psychologue du travail en Hors Temps de Travail. \nle samedi 17 juin à partir de 10h\, en présentiel au centre de Lille (au 8 Bd. Louis XIV\, Lille) ou en visio. \nInscription obligatoire \nInscrivez vous en ligne\n 
URL:https://www.cnam-hauts-de-france.fr/event/reunion-dinfo-presentation-du-titre-psychologue-du-travail-2/
LOCATION:Cnam de Lille\, 8 boulevard Louis XIV\, LILLE\, 59044
CATEGORIES:Réunion d'information,Réunion d'information virtuelle (en ligne)
END:VEVENT
BEGIN:VEVENT
DTSTART;TZID=Europe/Paris:20230624T100000
DTEND;TZID=Europe/Paris:20230624T110000
DTSTAMP:20260423T080904
CREATED:20230425T132725Z
LAST-MODIFIED:20230425T132725Z
UID:14368-1687600800-1687604400@www.cnam-hauts-de-france.fr
SUMMARY:Réunion de présentation générale de l’offre HTT - LILLE
DESCRIPTION:Nous vous proposons cette réunion d’infos collective pour présenter notre offre de formations Hors Temps de Travail\, en présentiel et à distance \nle samedi 24 juin à partir de 10h\, en présentiel au centre de Lille (au 8 Bd. Louis XIV\, Lille) ou en visio. \nInscription obligatoire \nInscrivez vous en ligne
URL:https://www.cnam-hauts-de-france.fr/event/reunion-de-presentation-generale-de-loffre-htt-lille-2/
LOCATION:Cnam de Lille\, 8 boulevard Louis XIV\, LILLE\, 59044
CATEGORIES:Réunion d'information,Réunion d'information virtuelle (en ligne)
END:VEVENT
BEGIN:VEVENT
DTSTART;TZID=Europe/Paris:20230629T140000
DTEND;TZID=Europe/Paris:20230629T180000
DTSTAMP:20260423T080904
CREATED:20230324T103927Z
LAST-MODIFIED:20230627T141334Z
UID:13777-1688047200-1688061600@www.cnam-hauts-de-france.fr
SUMMARY:Les jeudis de l'Alternance - LILLE et VALENCIENNES
DESCRIPTION:Chaque jeudi après midi jusqu’au 20 juillet\, nos équipes des centres de Lille et de Valenciennes seront à votre disposition. Venez échanger sur votre projet de formation en alternance\, visiter nos locaux et poser toutes vos questions. \n Il sera également possible de rencontrer un.e responsable du diplôme en alternance qui vous intéresse\, uniquement sur rendez-vous en s’inscrivant ci-dessous (visio possible)  \n \n\n\n \n  \nContact au 0800 719 720 \nCentre Cnam de LILLE : 5\, 7 et 8 Bd. Louis XIV \nCentre Cnam de Valenciennes : 15 bis\, Place Jehan Froissart
URL:https://www.cnam-hauts-de-france.fr/event/les-jeudis-de-lalternance-lille-et-valenciennes-4/
CATEGORIES:Rencontres Alternance
END:VEVENT
END:VCALENDAR