BEGIN:VCALENDAR
VERSION:2.0
PRODID:-//Cnam Hauts de France - ECPv6.2.9//NONSGML v1.0//EN
CALSCALE:GREGORIAN
METHOD:PUBLISH
X-ORIGINAL-URL:https://www.cnam-hauts-de-france.fr
X-WR-CALDESC:évènements pour Cnam Hauts de France
REFRESH-INTERVAL;VALUE=DURATION:PT1H
X-Robots-Tag:noindex
X-PUBLISHED-TTL:PT1H
BEGIN:VTIMEZONE
TZID:Europe/Paris
BEGIN:DAYLIGHT
TZOFFSETFROM:+0100
TZOFFSETTO:+0200
TZNAME:CEST
DTSTART:20230326T010000
END:DAYLIGHT
BEGIN:STANDARD
TZOFFSETFROM:+0200
TZOFFSETTO:+0100
TZNAME:CET
DTSTART:20231029T010000
END:STANDARD
END:VTIMEZONE
BEGIN:VEVENT
DTSTART;TZID=Europe/Paris:20230510T090000
DTEND;TZID=Europe/Paris:20230510T160000
DTSTAMP:20260423T093347
CREATED:20230419T134347Z
LAST-MODIFIED:20230419T134632Z
UID:14253-1683709200-1683734400@www.cnam-hauts-de-france.fr
SUMMARY:Job Dating Alternance - AMIENS
DESCRIPTION:C’est le moment de recruter un alternant avec le Cnam !\nJOB DATING au Cnam Hauts-de-France-Picardie (Avenue des facultés\, 80000 Amiens) \nMercredi 10 mai 2023 de 9h à 16h* à Amiens \nJeudi 11 et 12 mai en virtuel (Somme/Aisne/Oise) \n  \nINSCRIPTION AU JOB DATING \nVotre entreprise a besoin d’un nouveau collaborateur\, un pro\, avec un regard neuf… Recruter un alternant apporte une dynamique et de nouvelles compétences à votre entreprise\, un nouveau souffle… \nConfiez-nous vos besoins en recrutement\, nous disposons d’une pépinière de jeunes talents rapidement opérationnels et compétitifs\, nous vous garantissons un service Premium ! \nUn accompagnement personnalisé avec une présélection des profils qui correspondent à vos besoins\nNotre service relation-entreprise vous informe\, vous accompagne\, vous conseille et vous garantit une aide à la formalisation des contrats. \nNous vous accompagnons à toutes les étapes du recrutement : \n\nAnalyse du besoin de l’entreprise : Quelle formation ? Quel profil d’alternant ?\nComplétude administrative : Accompagnement dans la rédaction du contrat\, des démarches OPCO\, explication des aides…\nOrganisation de jobs dating : rencontres d’entreprises et d’alternants…\nIntégration et suivi de l’apprenti : Formation des Maîtres d’apprentissage et suivi pédagogique… Grâce à des points réguliers entre le maître d’apprentissage et le tuteur\, nous maintenons un contact privilégié avec l’entreprise d’accueil de nos alternants dans un climat de confiance.\n\nContact Territoire Picardie : Théo CHARDENET      theo.chardenet@lecnam.net  06.52.33.35.92 – 03.22.33.65.60 \n\nDes formations dans tous les domaines de la vie de l’entreprise et une présence sur tout le territoire\nDe bac à bac+5 / Ingénieur\, plus 60 diplômes\, licences\, masters et titres professionnels en alternance qui couvrent de nombreux secteurs d’activité et métiers : Comptabilité\, Commerce\, Gestion\, Management\, RH\, Btp\, Industrie\, Informatique\, Logistique\, Qse… \nNous formons chaque année plus de 2500 jeunes dans plus 30 villes de la région Hauts de France. \nVoir la liste de nos formations en alternance avec leurs localisations \nTélécharger la plaquette Alternance 2023 \nLes atouts de l’alternance au Cnam Hauts de France\n\nPour les entreprises du secteur privé\, quel que soit le niveau de prise en charge de l’OPCO\, aucun reste à charge ne sera facturé à l’entreprise\,\nDes rythmes d’alternance en parfaite adéquation avec les domaines métiers auxquels nous préparons\,\nUn taux de rupture de contrat très faible : 3% de rupture pour les apprentis du CFA Cnam HDF alors qu’il est de 17% en moyenne dans l’enseignement supérieur\,\nDes enseignants reconnus et issus du monde professionnel et universitaire\,\nUn maillage fort avec les entreprises permettant d’élaborer des contenus de formation adaptés à leurs besoins\,\nL’expertise du Cnam : depuis près de 30 ans\, le Cnam Hauts-de-France forme des alternants de l’enseignement supérieur pour qu’ils deviennent de vrais professionnels en alliant connaissances théoriques et expertises pratiques\n\nUne aide à l’embauche de l’Etat de 6000€ pour les alternants majeurs (18 à 30 ans)\, une subvention élargie aux grandes entreprises et aux formations de Bac à Bac+5 !\nGrâce au prolongement du plan #1jeune1solution du gouvernement\, profitez du renforcement de l’aide à l’embauche pour recruter vos futurs apprentis et vos jeunes en contrat de professionnalisation jusqu’à 29 ans révolus.\nCette aide s’applique pour tous les alternants préparant un diplôme de niveau master (niveau 7) Cette aide est accordée pour la première année d’exécution des contrats d’apprentissage et de professionnalisation conclus entre le 1er janvier et le 31 décembre 2023. L’aide se déclenchera automatiquement lors de l’enregistrement du contrat. \nConditions d’accès : \n\nAucune pour les entreprises de moins de 250 salariés\nPour les entreprises de plus de 250 salariés\, obligation d’atteindre le quota de 5 % d’alternants dans leur effectif\n\nProgramme de la journée du mercredi 10 mai (job dating présentiel)  :\n\nA partir de 8h : Arrivée et Installation des stands par les entreprises.\n8h30 – 9h :        Point d’actualité juridique sur l’alternance par MGA Conseil / Accueil petit déjeuner\n9h – 13h00       Entretiens de recrutements\n11h30 – 12h30 : Conférence pour les entreprises : Marketing RH et Marque Employeur : Comment attirer et recruter des jeunes en 2023 ?\n12h30 –14h : Pause déjeuner ( Food truck ) )\n13h30 à 14h 30 : Conférence pour les alternants – Présentation des métiers et de l’employabilité dans le secteur du chiffre et de la comptabilité \n14h00 – 16h00 : Poursuite des entretiens de recrutements.\n\nINSCRIPTION AU JOB DATING \n+d’info sur les conférences \n 
URL:https://www.cnam-hauts-de-france.fr/event/job-dating-alternance-amiens/
LOCATION:Centre d’Amiens\, Avenue des Facultés\, AMIENS\, 80000\, France
CATEGORIES:Job Dating
END:VEVENT
BEGIN:VEVENT
DTSTART;TZID=Europe/Paris:20230510T113000
DTEND;TZID=Europe/Paris:20230510T123000
DTSTAMP:20260423T093347
CREATED:20230419T132422Z
LAST-MODIFIED:20230419T150951Z
UID:14247-1683718200-1683721800@www.cnam-hauts-de-france.fr
SUMMARY:Conférence Marketing RH\, comment attirer des jeunes talents ? - AMIENS
DESCRIPTION:En marge de la journée Job dating du 10 mai\, le Cnam Hauts de France propose deux conférences au centre d’Amiens. \nConférence : Marketing RH et Marque Employeur : Comment attirer et recruter des jeunes talents en 2023 ?  \nPar Tonton Karim (Karim HECHMI) influenceur et expert en Conseil RH ! \nMercredi 10 mai 11h30- 12h30 – centre d ‘Amiens \n\nQuels leviers pour rendre mon entreprise plus sexy ?\nQuels sont mes atouts ? (Valeurs\, culture\, équipements\, environnement)\nQuels sont les leviers pour attirer efficacement les candidats ?\nDe quoi est composé le parcours candidat parfait ?\nRédaction d’une offre d’emploi percutante\nApplication d’une vraie Stratégie de Marketing RH sur l’ensemble des Réseaux Sociaux de l’entreprise »\n\nGratuite et ouverte aux entreprises (sur inscription)\, cette conférence est également ouverte aux alternants en RH du Cnam HdF territoire Sud. \nInscriptions : carole.bleriot@lecnam.net
URL:https://www.cnam-hauts-de-france.fr/event/conference-marketing-rh-et-marque-employeur-comment-attirer-et-recruter-des-jeunes-talents-en-2023-amiens/
LOCATION:Centre d’Amiens\, Avenue des Facultés\, AMIENS\, 80000\, France
CATEGORIES:Conférence
END:VEVENT
BEGIN:VEVENT
DTSTART;TZID=Europe/Paris:20230510T133000
DTEND;TZID=Europe/Paris:20230510T143000
DTSTAMP:20260423T093347
CREATED:20230419T132656Z
LAST-MODIFIED:20230419T151059Z
UID:14249-1683725400-1683729000@www.cnam-hauts-de-france.fr
SUMMARY:Conférence Métiers de la comptabilité et expertise comptable - AMIENS
DESCRIPTION:En marge de la journée Job dating du 10 mai\, le Cnam Hauts de France propose deux conférences au centre d’Amiens. \nConférence : Les Métiers et l’emploi du secteur de la comptabilité et de l’expertise comptable \nPar Madame Marjorie HUSSON\, Vice-Présidente de l’OEC Hauts-de-France \nMercredi 10 mai 13h30- 14h30 – centre d ‘Amiens \n  \nPrésentation en amphi sur les Métiers et l’emploi du secteur de la comptabilité et de l’expertise comptable. \nLes alternant.e.s en licence et master Compta-Contrôle- Audit\, en licence Responsables de portefeuilles clients et en DCG Intec ainsi que les futur.e.s alternant.e.s en comptabilité de l’école sont invité.e.s à la conférence. \nContact : carole.bleriot@lecnam.net
URL:https://www.cnam-hauts-de-france.fr/event/conference-les-metiers-et-lemploi-du-secteur-de-la-comptabilite-et-de-lexpertise-comptable-amiens/
LOCATION:Centre d’Amiens\, Avenue des Facultés\, AMIENS\, 80000\, France
CATEGORIES:Conférence
END:VEVENT
BEGIN:VEVENT
DTSTART;TZID=Europe/Paris:20230510T170000
DTEND;TZID=Europe/Paris:20230510T190000
DTSTAMP:20260423T093347
CREATED:20230317T092423Z
LAST-MODIFIED:20230424T074557Z
UID:13650-1683738000-1683745200@www.cnam-hauts-de-france.fr
SUMMARY:Job Dating Alternance - LILLE et VALENCIENNES
DESCRIPTION:C’est le moment de recruter un alternant avec le Cnam !\nNous organisons des job dating Alternance le mercredi 10 mai 2023 de 17h à 19h dans nos centres de Lille et de Valenciennes. \nDe nombreux postes à pourvoir seront proposés à nos candidats admissibles. \n  \nVous êtes une entreprise en recherche d’un jeune à recruter en alternance\nContacter notre responsable recrutement : Céline RESIDORI \nVous êtes un jeune en recherche d’une poursuite d’études en alternance\nPour être sur de pouvoir y participer\, candidatez dès maintenant à l’une de nos formations en alternance. \nVoir notre offre de plus de 60 diplômes\, Bac+1\, +2\, licences\, masters\, ingénieurs en alternance…
URL:https://www.cnam-hauts-de-france.fr/event/job-dating-alternance-amiens-lille-valenciennes/
CATEGORIES:Job Dating
END:VEVENT
BEGIN:VEVENT
DTSTART;TZID=Europe/Paris:20230513T100000
DTEND;TZID=Europe/Paris:20230513T110000
DTSTAMP:20260423T093347
CREATED:20230425T121800Z
LAST-MODIFIED:20230425T122609Z
UID:14354-1683972000-1683975600@www.cnam-hauts-de-france.fr
SUMMARY:Réunion de présentation du Titre de Psychologue du travail (HTT) - LILLE
DESCRIPTION:Nous vous proposons des réunions d’infos collectives pour présenter la formation au Titre de Psychologue du travail en Hors Temps de Travail. \nles samedis 13 mai et 17 juin à partir de 10h\, en présentiel au centre de Lille (au 8 Bd. Louis XIV\, Lille) ou en visio. \nInscription obligatoire \nInscrivez vous en ligne\n 
URL:https://www.cnam-hauts-de-france.fr/event/reunion-dinfo-presentation-du-titre-psychologue-du-travail/
LOCATION:Cnam de Lille\, 8 boulevard Louis XIV\, LILLE\, 59044
CATEGORIES:Réunion d'information,Réunion d'information virtuelle (en ligne)
END:VEVENT
BEGIN:VEVENT
DTSTART;TZID=Europe/Paris:20230513T100000
DTEND;TZID=Europe/Paris:20230513T120000
DTSTAMP:20260423T093347
CREATED:20230404T120748Z
LAST-MODIFIED:20230404T120748Z
UID:14032-1683972000-1683979200@www.cnam-hauts-de-france.fr
SUMMARY:Réunion de présentation des 4 licences en 3 ans en alternance - AMIENS
DESCRIPTION:Des réunions de présentation des 4 licences en 3 ans à Amiens vous sont proposées : \n– le samedi 13 mai de 10h a 12H au Cnam Amiens\, avenue des facultés\nEntrée libre \n– Réunions d’info collectives par filière semaine du 02/05 et du 09/05 les mardi et jeudi à partir de 18h\, organisation à définir
URL:https://www.cnam-hauts-de-france.fr/event/reunion-de-presentation-des-4-licences-en-3-ans-en-alternance-amiens/
LOCATION:Centre d’Amiens\, Avenue des Facultés\, AMIENS\, 80000\, France
CATEGORIES:Réunion d'information
END:VEVENT
BEGIN:VEVENT
DTSTART;TZID=Europe/Paris:20230525T140000
DTEND;TZID=Europe/Paris:20230525T180000
DTSTAMP:20260423T093347
CREATED:20230324T102546Z
LAST-MODIFIED:20230417T142850Z
UID:13762-1685023200-1685037600@www.cnam-hauts-de-france.fr
SUMMARY:Les jeudis de l'Alternance - LILLE et VALENCIENNES
DESCRIPTION:Chaque jeudi après midi jusqu’au 20 juillet\, nos équipes des centres de Lille et de Valenciennes seront à votre disposition. Venez échanger sur votre projet de formation en alternance\, visiter nos locaux et poser toutes vos questions. \nIl sera également possible de rencontrer un.e responsable du diplôme en alternance qui vous intéresse\, uniquement sur rendez-vous en s’inscrivant ci-dessous (visio possible)  \n \n\n\n\n  \nContact au 0800 719 720  \nCentre Cnam de LILLE : 5\, 7 et 8 Bd. Louis XIV \nCentre Cnam de Valenciennes : 15 bis\, Place Jehan Froissart
URL:https://www.cnam-hauts-de-france.fr/event/les-jeudis-de-lalternance-lille-et-valenciennes/
CATEGORIES:Rencontres Alternance
END:VEVENT
END:VCALENDAR