BEGIN:VCALENDAR
VERSION:2.0
PRODID:-//Cnam Hauts de France - ECPv6.2.9//NONSGML v1.0//EN
CALSCALE:GREGORIAN
METHOD:PUBLISH
X-ORIGINAL-URL:https://www.cnam-hauts-de-france.fr
X-WR-CALDESC:évènements pour Cnam Hauts de France
REFRESH-INTERVAL;VALUE=DURATION:PT1H
X-Robots-Tag:noindex
X-PUBLISHED-TTL:PT1H
BEGIN:VTIMEZONE
TZID:Europe/Paris
BEGIN:DAYLIGHT
TZOFFSETFROM:+0100
TZOFFSETTO:+0200
TZNAME:CEST
DTSTART:20230326T010000
END:DAYLIGHT
BEGIN:STANDARD
TZOFFSETFROM:+0200
TZOFFSETTO:+0100
TZNAME:CET
DTSTART:20231029T010000
END:STANDARD
END:VTIMEZONE
BEGIN:VEVENT
DTSTART;TZID=Europe/Paris:20230413T110000
DTEND;TZID=Europe/Paris:20230413T120000
DTSTAMP:20260423T104042
CREATED:20230327T094707Z
LAST-MODIFIED:20230327T094707Z
UID:13804-1681383600-1681387200@www.cnam-hauts-de-france.fr
SUMMARY:Réunion d'information - Formation gestionnaire de paie - LILLE
DESCRIPTION:Vous souhaitez devenir gestionnaire de paie et valider un diplôme reconnu Bac+3 dans un métier qui recrute ?\nNotre nouvelle formation de gestionnaire de paie est faite pour vous ! \nLa formation se réalise en alternance\, au Cnam Intec à Lille et abouti sur la délivrance d’une Licence Professionnelle Comptabilité et Paie.\nDe nombreuses offres de postes de gestionnaires de paie sont régulièrement à pourvoir dans les entreprises et cabinets comptable de la région.\nAlors pourquoi hésiter ? \nUne réunion d’information en ligne vous est proposée le jeudi 13 avril 2023 de 11h à 12h.\nElle sera animée par la responsable de la formation de gestionnaire de paie à Lille.
URL:https://www.cnam-hauts-de-france.fr/event/reunion-dinformation-formation-gestionnaire-de-paie-lille/
CATEGORIES:Réunion d'information virtuelle (en ligne)
END:VEVENT
END:VCALENDAR