BEGIN:VCALENDAR
VERSION:2.0
PRODID:-//Cnam Hauts de France - ECPv6.2.9//NONSGML v1.0//EN
CALSCALE:GREGORIAN
METHOD:PUBLISH
X-ORIGINAL-URL:https://www.cnam-hauts-de-france.fr
X-WR-CALDESC:évènements pour Cnam Hauts de France
REFRESH-INTERVAL;VALUE=DURATION:PT1H
X-Robots-Tag:noindex
X-PUBLISHED-TTL:PT1H
BEGIN:VTIMEZONE
TZID:Europe/Paris
BEGIN:DAYLIGHT
TZOFFSETFROM:+0100
TZOFFSETTO:+0200
TZNAME:CEST
DTSTART:20230326T010000
END:DAYLIGHT
BEGIN:STANDARD
TZOFFSETFROM:+0200
TZOFFSETTO:+0100
TZNAME:CET
DTSTART:20231029T010000
END:STANDARD
END:VTIMEZONE
BEGIN:VEVENT
DTSTART;TZID=Europe/Paris:20230303T150000
DTEND;TZID=Europe/Paris:20230303T160000
DTSTAMP:20260423T120629
CREATED:20220308T152300Z
LAST-MODIFIED:20230214T110724Z
UID:7773-1677855600-1677859200@www.cnam-hauts-de-france.fr
SUMMARY:Réunion d’info. VAE - AMIENS
DESCRIPTION:Pour bien démarrer votre VAE au CNAM\, nous vous invitons à l’une des réunions sur la procédure VAE du CNAM. \nAprès votre participation à l’une de ces réunions d’information collective d’une heure\, nous conviendrons d’un entretien personnalisé\, vérifierons l’ensemble des éléments vous concernant par rapport à votre projet. \nVous pourrez décider du choix du diplôme le plus en lien avec vos compétences\, du choix des modules à argumenter en VAE\, du mode de financement de l’étude de la recevabilité\, de l’accompagnement et des frais de jury. \nCette réunion d’information sur la procédure VAE du CNAM se déroule :\n– soit sur Microsoft Teams (visioconférence sur internet) \n \n– ou sur le site d’Amiens (limité à 5 personnes\, confirmation de votre présence par mail odile.debuire@lecnam.net) \nProchaines réunions :\nLundi 13 mars 2023 à 13h Cliquez ici pour rejoindre la réunion \n \n+ d’info sur la VAE au Cnam HdF \nProchaine date :\nMardi 13 décembre à 13h Cliquez ici pour participer à la réunion \n  \n 
URL:https://www.cnam-hauts-de-france.fr/event/reunion-dinfo-vae-13/
LOCATION:Centre d’Amiens\, Avenue des Facultés\, AMIENS\, 80000\, France
CATEGORIES:Réunion d'information,Réunion d'information virtuelle (en ligne)
END:VEVENT
BEGIN:VEVENT
DTSTART;TZID=Europe/Paris:20230313T130000
DTEND;TZID=Europe/Paris:20230313T140000
DTSTAMP:20260423T120629
CREATED:20220308T151120Z
LAST-MODIFIED:20230214T110415Z
UID:7766-1678712400-1678716000@www.cnam-hauts-de-france.fr
SUMMARY:Réunion d’info. VAE - AMIENS
DESCRIPTION:Pour bien démarrer votre VAE au CNAM\, nous vous invitons à l’une des réunions sur la procédure VAE du CNAM. \nAprès votre participation à l’une de ces réunions d’information collective d’une heure\, nous conviendrons d’un entretien personnalisé\, vérifierons l’ensemble des éléments vous concernant par rapport à votre projet. \nVous pourrez décider du choix du diplôme le plus en lien avec vos compétences\, du choix des modules à argumenter en VAE\, du mode de financement de l’étude de la recevabilité\, de l’accompagnement et des frais de jury. \nCette réunion d’information sur la procédure VAE du CNAM se déroule :\n– soit sur Microsoft Teams (visioconférence sur internet)\n \n– ou sur le site d’Amiens (limité à 5 personnes\, confirmation de votre présence par mail odile.debuire@lecnam.net) \n \n+ d’info sur la VAE au Cnam HdF
URL:https://www.cnam-hauts-de-france.fr/event/reunion-dinfo-vae-10/
LOCATION:Centre d’Amiens\, Avenue des Facultés\, AMIENS\, 80000\, France
CATEGORIES:Réunion d'information,Réunion d'information virtuelle (en ligne)
END:VEVENT
BEGIN:VEVENT
DTSTART;TZID=Europe/Paris:20230317T090000
DTEND;TZID=Europe/Paris:20230318T170000
DTSTAMP:20260423T120629
CREATED:20221110T084852Z
LAST-MODIFIED:20221110T090446Z
UID:11579-1679043600-1679158800@www.cnam-hauts-de-france.fr
SUMMARY:Salon Apprentissage\, alternance et métiers - PARIS
DESCRIPTION:Nous serons présents avec l’EICnam nationale sur le Salon Apprentissage\, alternance et métiers \nles 17 et 18 mars prochains 2023 à PARIS – Porte de Versailles \nde 10h à 17h le vendredi et de 10h à 18h le samedi
URL:https://www.cnam-hauts-de-france.fr/event/salon-apprentissage-alternance-et-metiers-paris-les-17-et-18-mars-prochains-2023/
LOCATION:Porte de Versailles\, place de la Porte de Versailles\, Paris\, 75015\, France
CATEGORIES:Salon formations / emploi
END:VEVENT
BEGIN:VEVENT
DTSTART;TZID=Europe/Paris:20230329T100000
DTEND;TZID=Europe/Paris:20230329T170000
DTSTAMP:20260423T120629
CREATED:20230323T092225Z
LAST-MODIFIED:20230323T092225Z
UID:13743-1680084000-1680109200@www.cnam-hauts-de-france.fr
SUMMARY:Salon de l'Orientation et des Métiers - AVESNES SUR HELPE
DESCRIPTION:Nous serons présent sur ce Salon de l’Orientation et des Métiers pour vous présenter notre offre de formations en présentiel et à distance\, en alternance\, nos services d’accompagnement VAE et de Bilans de compétences. \n+ d’info sur notre offre de formations et de services \nLieu : Salle Wedric\, au Bastion – AVESNES SUR HELPE \nHoraire : 10h à 17h
URL:https://www.cnam-hauts-de-france.fr/event/salon-de-lorientation-et-des-metiers/
LOCATION:Salle Wedric\, Au Bastion\, AVESNES SUR HELPE\, 59440\, France
CATEGORIES:Forum,Salon formations / emploi
END:VEVENT
END:VCALENDAR