BEGIN:VCALENDAR
VERSION:2.0
PRODID:-//Cnam Hauts de France - ECPv6.2.9//NONSGML v1.0//EN
CALSCALE:GREGORIAN
METHOD:PUBLISH
X-ORIGINAL-URL:https://www.cnam-hauts-de-france.fr
X-WR-CALDESC:évènements pour Cnam Hauts de France
REFRESH-INTERVAL;VALUE=DURATION:PT1H
X-Robots-Tag:noindex
X-PUBLISHED-TTL:PT1H
BEGIN:VTIMEZONE
TZID:Europe/Paris
BEGIN:DAYLIGHT
TZOFFSETFROM:+0100
TZOFFSETTO:+0200
TZNAME:CEST
DTSTART:20220327T010000
END:DAYLIGHT
BEGIN:STANDARD
TZOFFSETFROM:+0200
TZOFFSETTO:+0100
TZNAME:CET
DTSTART:20221030T010000
END:STANDARD
END:VTIMEZONE
BEGIN:VEVENT
DTSTART;TZID=Europe/Paris:20220912T090000
DTEND;TZID=Europe/Paris:20221008T120000
DTSTAMP:20260425T162504
CREATED:20210721T151844Z
LAST-MODIFIED:20220609T133334Z
UID:5715-1662973200-1665230400@www.cnam-hauts-de-france.fr
SUMMARY:Orientation / Inscriptions - Formations 2022/2023
DESCRIPTION:Venez rencontrer nos conseillers et découvrir l’offre de formations 2022/2023 de plus de 700 parcours du Cnam\, pour se former tout au long de la vie.\n \nPériode d’information et d’inscriptions : du 12 septembre au 8 octobre 2022 (sur rdv) \nContact au 0800 719 720 \n \n 
URL:https://www.cnam-hauts-de-france.fr/event/orientation-inscriptions-formations-2021-2022/
CATEGORIES:Période d'Info/Inscriptions
END:VEVENT
BEGIN:VEVENT
DTSTART;TZID=Europe/Paris:20221013T130000
DTEND;TZID=Europe/Paris:20221013T140000
DTSTAMP:20260425T162504
CREATED:20220308T151332Z
LAST-MODIFIED:20221004T072712Z
UID:7768-1665666000-1665669600@www.cnam-hauts-de-france.fr
SUMMARY:Réunion d’info. VAE - Lille
DESCRIPTION:Pour tout savoir sur la Validation des Acquis de l’Expérience\, nous vous invitons à participer à l’une de nos réunions d’information spéciales VAE. \nSur le territoire Nord\, ces réunions sont organisées en visio (avec l’application TEAM) \nInscription obligatoire au préalable dans Diva – plate-forme nationale d’inscription et de suivi des dossiers VAE au Cnam. \nVous recevrez ensuite un lien doodle pour choisir l’une des prochaines dates proposées et le lien Teams de connexion la veille ou le matin de la réunion. \nDurée : 1 heure environ \n \n \n+ d’info sur la VAE au Cnam HdF \nContact : François-Xavier RIBES au 03.74.46.88.55\nConseiller Formation\, référent VAE Départements 59-62 \nProchaine(s) réunions VAE : \nle mardi 25 octobre\, de 13h à 14h00. \n 
URL:https://www.cnam-hauts-de-france.fr/event/reunion-dinfo-vae-11/
LOCATION:Réunion en ligne\, Internet
CATEGORIES:Réunion d'information virtuelle (en ligne)
END:VEVENT
BEGIN:VEVENT
DTSTART;TZID=Europe/Paris:20221025T130000
DTEND;TZID=Europe/Paris:20221025T140000
DTSTAMP:20260425T162504
CREATED:20220308T151704Z
LAST-MODIFIED:20221004T072811Z
UID:7771-1666702800-1666706400@www.cnam-hauts-de-france.fr
SUMMARY:Réunion d’info. VAE - Lille
DESCRIPTION:Pour tout savoir sur la Validation des Acquis de l’Expérience\, nous vous invitons à participer à l’une de nos réunions d’information spéciales VAE. \nSur le territoire Nord\, ces réunions sont organisées en visio (avec l’application TEAM) \nInscription obligatoire au préalable dans Diva – plate-forme nationale d’inscription et de suivi des dossiers VAE au Cnam. \nVous recevrez ensuite un lien doodle pour choisir l’une des prochaines dates proposées et le lien Teams de connexion la veille ou le matin de la réunion. \nDurée : 1 heure environ \n \n \n+ d’info sur la VAE au Cnam HdF \nContact : François-Xavier RIBES au 03.74.46.88.55\nConseiller Formation\, référent VAE Départements 59-62 \nProchaine(s) réunions VAE : \n 
URL:https://www.cnam-hauts-de-france.fr/event/reunion-dinfo-vae-12/
LOCATION:Réunion en ligne\, Internet
CATEGORIES:Réunion d'information virtuelle (en ligne)
END:VEVENT
END:VCALENDAR