BEGIN:VCALENDAR
VERSION:2.0
PRODID:-//Cnam Hauts de France - ECPv6.2.9//NONSGML v1.0//EN
CALSCALE:GREGORIAN
METHOD:PUBLISH
X-ORIGINAL-URL:https://www.cnam-hauts-de-france.fr
X-WR-CALDESC:évènements pour Cnam Hauts de France
REFRESH-INTERVAL;VALUE=DURATION:PT1H
X-Robots-Tag:noindex
X-PUBLISHED-TTL:PT1H
BEGIN:VTIMEZONE
TZID:Europe/Paris
BEGIN:DAYLIGHT
TZOFFSETFROM:+0100
TZOFFSETTO:+0200
TZNAME:CEST
DTSTART:20220327T010000
END:DAYLIGHT
BEGIN:STANDARD
TZOFFSETFROM:+0200
TZOFFSETTO:+0100
TZNAME:CET
DTSTART:20221030T010000
END:STANDARD
END:VTIMEZONE
BEGIN:VEVENT
DTSTART;TZID=Europe/Paris:20220503T090000
DTEND;TZID=Europe/Paris:20220503T130000
DTSTAMP:20260425T222911
CREATED:20220407T103100Z
LAST-MODIFIED:20220407T103100Z
UID:8110-1651568400-1651582800@www.cnam-hauts-de-france.fr
SUMMARY:Forum de l’Apprentissage - Saint-Saulve
DESCRIPTION:Venez rencontrer nos conseillers au Forum de l’Apprentissage\, et découvrir notre offre : + de 60 diplômes accessibles en alternance du bac+2 au bac+5 (Licences\, Masters\, Ingénieurs et titres professionnels) \n+d’info voir la liste des formations en alternance au Cnam Hauts de France \n#diplomes #alternance #apprentissage #formation
URL:https://www.cnam-hauts-de-france.fr/event/forum-de-lapprentissage-saint-saulve/
LOCATION:Salle des fêtes – Saint Saulve\, 8 Pl. Louis Maillard\, Saint-Saulve\, France
CATEGORIES:Forum
END:VEVENT
BEGIN:VEVENT
DTSTART;TZID=Europe/Paris:20220516T140000
DTEND;TZID=Europe/Paris:20220516T160000
DTSTAMP:20260425T222911
CREATED:20220516T134540Z
LAST-MODIFIED:20220516T134726Z
UID:8665-1652709600-1652716800@www.cnam-hauts-de-france.fr
SUMMARY:Semaine nationale de l'alternance - Pôle Emploi Amiens
DESCRIPTION:Présentations des formations  des filières RH \, Compta-gestion-finances et Commerce  \nlors de la semaine nationale de l’alternance au Pole emploi d’Amiens. \nle  Lundi 16 mai de 14h à 16h \n  \n> Voir toute notre offre de diplômes accessibles en alternance
URL:https://www.cnam-hauts-de-france.fr/event/semaine-nationale-de-lalternance-pole-emploi-amiens/
CATEGORIES:Réunion d'information
END:VEVENT
BEGIN:VEVENT
DTSTART;TZID=Europe/Paris:20220519T140000
DTEND;TZID=Europe/Paris:20220519T160000
DTSTAMP:20260425T222911
CREATED:20220516T102707Z
LAST-MODIFIED:20220516T134755Z
UID:8655-1652968800-1652976000@www.cnam-hauts-de-france.fr
SUMMARY:Semaine nationale de l'alternance - Pôle Emploi Maubeuge
DESCRIPTION:Présentation de notre offre de formations et services  \nLieu : Pôle Emploi Maubeuge Pasteur – 60 Ter Bd Pasteur\, 59600 Maubeuge \n=> Z22 \n2 réunions sont prévues : 14h00 et 15h00. \nMerci de vous rapprocher de votre conseiller Pôle Emploi pour recevoir une invitation. \n  \n> Voir toute notre offre de diplômes accessibles en alternance
URL:https://www.cnam-hauts-de-france.fr/event/journee-de-lalternance-pole-emploi-maubeuge/
LOCATION:Pôle Emploi Maubeuge Pasteur\, 60 Ter Bd Pasteur\, Maubeuge\, 59600\, France
CATEGORIES:Réunion d'information
END:VEVENT
BEGIN:VEVENT
DTSTART;TZID=Europe/Paris:20220525T090000
DTEND;TZID=Europe/Paris:20220525T163000
DTSTAMP:20260425T222911
CREATED:20220512T143152Z
LAST-MODIFIED:20220512T143152Z
UID:8486-1653469200-1653496200@www.cnam-hauts-de-france.fr
SUMMARY:Forum de l'alternance et de la formation - Loon-Plage
DESCRIPTION:Nous serons présents sur ce forum pour vous présenter notre offre de + de 60 diplômes accessibles en alternance du bac+2 au bac+5 (Licences\, Masters\, Ingénieurs et titres professionnels)\n+d’info : voir la liste des formations en alternance au Cnam Hauts de France https://www.cnam-hauts-de-france.fr/poursuites-detudes-en-alternance-au-cnam-hauts-de-france/ \nTemps fort de l’emploi sur les Rives de l’Aa et de la Colme\, le Forum de l’alternance accueille chaque année plus de 400 jeunes et près de 100 exposants.\nCe rendez-vous de l’alternance et de la formation se déroulera le mercredi 25 mai 2022 – de 9h à 16h30 à la maison de l’enfance et de la famille\, rue des manoirs à Loon-Plage.\n \nOrganisé par la Mission Locale des Rives de l’Aa et de la Colme\, avec le soutien de Pôle Emploi\, de la Dreets et de la Région Hauts de France\, cette action contribuera à la promotion de l’alternance afin de finaliser de vrais recrutements. Cet évènement se présentera avant tout comme un salon de recrutement multisectoriel.\nLa volonté de la Mission Locale réside dans la mise en relation des jeunes avec les principaux acteurs de l’alternance – recruteurs\, centres de formation et organismes de conseil à l’orientation et à l’emploi – et de construire un véritable projet d’apprentissage ou de professionnalisation. 
URL:https://www.cnam-hauts-de-france.fr/event/forum-de-lalternance-et-de-la-formation-loon-plage/
LOCATION:Maison de l’enfance et de la famille\, rue des manoirs\, Loon-Plage\, 59279
CATEGORIES:Forum
END:VEVENT
END:VCALENDAR