BEGIN:VCALENDAR
VERSION:2.0
PRODID:-//Cnam Hauts de France - ECPv6.2.9//NONSGML v1.0//EN
CALSCALE:GREGORIAN
METHOD:PUBLISH
X-WR-CALNAME:Cnam Hauts de France
X-ORIGINAL-URL:https://www.cnam-hauts-de-france.fr
X-WR-CALDESC:évènements pour Cnam Hauts de France
REFRESH-INTERVAL;VALUE=DURATION:PT1H
X-Robots-Tag:noindex
X-PUBLISHED-TTL:PT1H
BEGIN:VTIMEZONE
TZID:Europe/Paris
BEGIN:DAYLIGHT
TZOFFSETFROM:+0100
TZOFFSETTO:+0200
TZNAME:CEST
DTSTART:20220327T010000
END:DAYLIGHT
BEGIN:STANDARD
TZOFFSETFROM:+0200
TZOFFSETTO:+0100
TZNAME:CET
DTSTART:20221030T010000
END:STANDARD
END:VTIMEZONE
BEGIN:VEVENT
DTSTART;TZID=Europe/Paris:20220304T090000
DTEND;TZID=Europe/Paris:20220304T170000
DTSTAMP:20260426T005326
CREATED:20220107T153918Z
LAST-MODIFIED:20220107T154319Z
UID:6630-1646384400-1646413200@www.cnam-hauts-de-france.fr
SUMMARY:Salon du travail et de la mobilité professionnelle - Lille
DESCRIPTION:Nous serons présent sur ce salon pour vous présenter notre offre de formations en présentiel et à distance\, en alternance\, nos services d’accompagnement VAE et de Bilans de compétences. \n+ d’info sur notre offre de formations et de services
URL:https://www.cnam-hauts-de-france.fr/event/salon-du-travail-et-de-la-mobilite-professionnelle-lille/
LOCATION:Lille Grand Palais\, 1 Boulevard des Cités Unies\, LILLE\, 59000\, France
CATEGORIES:Salon formations / emploi
END:VEVENT
BEGIN:VEVENT
DTSTART;TZID=Europe/Paris:20220311T110000
DTEND;TZID=Europe/Paris:20220311T120000
DTSTAMP:20260426T005326
CREATED:20210913T124507Z
LAST-MODIFIED:20220114T150801Z
UID:6111-1646996400-1647000000@www.cnam-hauts-de-france.fr
SUMMARY:Réunion d’info. VAE
DESCRIPTION:Pour tout savoir sur la Validation des Acquis de l’Expérience\n \nLes activités de validation des acquis au CNAM (VAE\,VAPP et VES) continuent.\nVous êtes invité(e) à participer à une réunion d’information VA (Validation des Acquis au CNAM) :\n– soit sur Microsoft Teams (visioconférence sur internet)\n– ou sur le site d’Amiens (limité à 5 personnes\, confirmation de votre présence par mail odile.debuire@lecnam.net) \nVendredi 11 mars 2022 à 11h > Cliquez ici pour participer à la réunion \n  \n \n+ d’info sur la VAE au Cnam HdF \nProchaines dates : mercredi 27 octobre à 17h\, mercredi 10 novembre à 10h\, vendredi 26 novembre à 16h\, vendredi 10 décembre à 10h.
URL:https://www.cnam-hauts-de-france.fr/event/reunion-dinfo-vae-2/
LOCATION:Centre d’Amiens\, Avenue des Facultés\, AMIENS\, 80000\, France
CATEGORIES:Réunion d'information,Réunion d'information virtuelle (en ligne)
END:VEVENT
BEGIN:VEVENT
DTSTART;TZID=Europe/Paris:20220311T120000
DTEND;TZID=Europe/Paris:20220311T130000
DTSTAMP:20260426T005326
CREATED:20220124T154713Z
LAST-MODIFIED:20220302T124559Z
UID:6896-1647000000-1647003600@www.cnam-hauts-de-france.fr
SUMMARY:Réunion d’information sur les cours du soir et à distance
DESCRIPTION:Présentation de l’offre de formation HTT\, en cours du soir et formation à distance. \nVous souhaitez développer vos compétences\, acquérir un diplôme\, reprendre ou poursuivre des études…\nPlus 500 formations vous sont proposées dans l’offre nationale\, dont une centaine au niveau régional\, en cours du soir et formation à distance… \nCette réunion d’information est gratuite et accessible à tous sur inscription. (en ligne via Teams)
URL:https://www.cnam-hauts-de-france.fr/event/reunion-dinformation-sur-les-cours-du-soir-et-a-distance-4/
LOCATION:Réunion en ligne\, Internet
CATEGORIES:Réunion d'information virtuelle (en ligne)
END:VEVENT
BEGIN:VEVENT
DTSTART;TZID=Europe/Paris:20220312T093000
DTEND;TZID=Europe/Paris:20220312T133000
DTSTAMP:20260426T005326
CREATED:20220107T123730Z
LAST-MODIFIED:20220107T134448Z
UID:6582-1647077400-1647091800@www.cnam-hauts-de-france.fr
SUMMARY:JPO Alternance - centre d'Amiens
DESCRIPTION:Pour tout savoir sur\n \n\nl’alternance au Cnam Hauts de France en apprentissage ou en contrat pro.\, \nla liste des diplômes proposés en alternance\,\nles modalités de candidatures en alternance …\n\nVenez rencontrer nos conseillers lors de cette Journée porte ouverte spéciale « Offre de formations en alternance » du centre Cnam d’Amiens\, le samedi 12 mars 2022 de 9h30 à 13h30.
URL:https://www.cnam-hauts-de-france.fr/event/jpo-alternance-centre-damiens/
LOCATION:Centre d’Amiens\, Avenue des Facultés\, AMIENS\, 80000\, France
CATEGORIES:JPO
END:VEVENT
BEGIN:VEVENT
DTSTART;TZID=Europe/Paris:20220321T130000
DTEND;TZID=Europe/Paris:20220321T140000
DTSTAMP:20260426T005326
CREATED:20210913T125540Z
LAST-MODIFIED:20220308T145547Z
UID:6113-1647867600-1647871200@www.cnam-hauts-de-france.fr
SUMMARY:Réunion d’info. VAE
DESCRIPTION:Pour tout savoir sur la Validation des Acquis de l’Expérience\n \nLes activités de validation des acquis au CNAM (VAE\,VAPP et VES) continuent.\nVous êtes invité(e) à participer à une réunion d’information VA (Validation des Acquis au CNAM) :\n– soit sur Microsoft Teams (visioconférence sur internet)\n– ou sur le site d’Amiens (limité à 5 personnes\, confirmation de votre présence par mail odile.debuire@lecnam.net) \nLundi 21 mars 2022 à 13h Cliquez ici pour participer à la réunion \n \n+ d’info sur la VAE au Cnam HdF \nProchaines dates : \nSamedi 02 avril 2022 à 14h Cliquez ici pour participer à la réunion \nVendredi 15 avril 2022 à 15h Cliquez ici pour participer à la réunion \nLundi 25 avril 2022 à 13h Cliquez ici pour participer à la réunion \nSamedi 14 mai 2022 à 14h Cliquez ici pour participer à la réunion \nMercredi 25 mai 2022 à 17h Cliquez ici pour participer à la réunion \nVendredi 10 juin 2022 à 10h Cliquez ici pour participer à la réunion \nSamedi 25 juin 2022 à 14h Cliquez ici pour participer à la réunion
URL:https://www.cnam-hauts-de-france.fr/event/reunion-dinfo-vae-3/
LOCATION:Centre d’Amiens\, Avenue des Facultés\, AMIENS\, 80000\, France
CATEGORIES:Réunion d'information,Réunion d'information virtuelle (en ligne)
END:VEVENT
BEGIN:VEVENT
DTSTART;TZID=Europe/Paris:20220325T120000
DTEND;TZID=Europe/Paris:20220325T130000
DTSTAMP:20260426T005326
CREATED:20220124T154458Z
LAST-MODIFIED:20220302T124750Z
UID:6894-1648209600-1648213200@www.cnam-hauts-de-france.fr
SUMMARY:Réunion d’information sur les cours du soir et à distance
DESCRIPTION:Présentation de l’offre de formation HTT\, en cours du soir et formation à distance. \nVous souhaitez développer vos compétences\, acquérir un diplôme\, reprendre ou poursuivre des études…\nPlus 500 formations vous sont proposées dans l’offre nationale\, dont une centaine au niveau régional\, en cours du soir et formation à distance… \nCette réunion d’information est gratuite et accessible à tous sur inscription. (en ligne via Teams)
URL:https://www.cnam-hauts-de-france.fr/event/reunion-dinformation-sur-les-cours-du-soir-et-a-distance-3/
LOCATION:Réunion en ligne\, Internet
CATEGORIES:Réunion d'information virtuelle (en ligne)
END:VEVENT
BEGIN:VEVENT
DTSTART;TZID=Europe/Paris:20220326T090000
DTEND;TZID=Europe/Paris:20220326T170000
DTSTAMP:20260426T005326
CREATED:20220311T111234Z
LAST-MODIFIED:20220311T113535Z
UID:7786-1648285200-1648314000@www.cnam-hauts-de-france.fr
SUMMARY:Salon Poursuite d’études et Masters - Lille
DESCRIPTION:Quelles poursuites d’études après un BTS\, un BUT ou une licence ? Quel master\, mastère ou MBA choisir ? Quel parcours dans l’enseignement supérieur est le plus adapté à votre profil ? Quelles études pour quels métiers ? \nProfitez de cette journée pour rencontrer les acteurs incontournables de la formation de votre région. Renseignez-vous sur les études et les métiers qui s’offrent à vous. Pour affiner votre projet de poursuite d’études\, vous pouvez également assister aux conférences thématiques qui constituent une réelle occasion de rencontrer des spécialistes de la formation et d’échanger avec eux. \nCe salon s’adresse : \n\naux étudiants souhaitant se réorienter\, poursuivre leurs études après un bac +1 à bac +4 ou affiner leurs choix d’orientation\,\naux parents et aux enseignants qui accompagnent les jeunes dans leurs choix d’études et de métiers.\n\n>  Pour plus d’informations et télécharger votre invitation gratuite et obligatoire\, cliquez ici ! \n  \nNous serons présent sur ce salon pour vous présenter nos possibilités de poursuites d’études en alternance… \n> Voir la liste de tous nos diplômes : Licences\, Masters\, Ingénieurs en alternance\, apprentissage ou contrat pro.
URL:https://www.cnam-hauts-de-france.fr/event/salon-poursuite-detudes-et-masters-lille/
LOCATION:Lille Grand Palais\, 1 Boulevard des Cités Unies\, LILLE\, 59000\, France
CATEGORIES:Salon formations / emploi
END:VEVENT
END:VCALENDAR