BEGIN:VCALENDAR
VERSION:2.0
PRODID:-//Cnam Hauts de France - ECPv6.2.9//NONSGML v1.0//EN
CALSCALE:GREGORIAN
METHOD:PUBLISH
X-WR-CALNAME:Cnam Hauts de France
X-ORIGINAL-URL:https://www.cnam-hauts-de-france.fr
X-WR-CALDESC:évènements pour Cnam Hauts de France
REFRESH-INTERVAL;VALUE=DURATION:PT1H
X-Robots-Tag:noindex
X-PUBLISHED-TTL:PT1H
BEGIN:VTIMEZONE
TZID:Europe/Paris
BEGIN:DAYLIGHT
TZOFFSETFROM:+0100
TZOFFSETTO:+0200
TZNAME:CEST
DTSTART:20220327T010000
END:DAYLIGHT
BEGIN:STANDARD
TZOFFSETFROM:+0200
TZOFFSETTO:+0100
TZNAME:CET
DTSTART:20221030T010000
END:STANDARD
END:VTIMEZONE
BEGIN:VEVENT
DTSTART;TZID=Europe/Paris:20220120T160000
DTEND;TZID=Europe/Paris:20220120T173000
DTSTAMP:20260426T032230
CREATED:20211028T121907Z
LAST-MODIFIED:20220114T144155Z
UID:6413-1642694400-1642699800@www.cnam-hauts-de-france.fr
SUMMARY:JPO Formations du 2nd semestre - à MAUBEUGE
DESCRIPTION:Présentation de l’offre en journée\, le soir et à distance et notamment la nouvelle offre de formations en ressources humaines proposée à Maubeuge à partir de février.\n \nVous souhaitez développer vos compétences\, acquérir un diplôme\, reprendre ou poursuivre des études…  \nPlus de 60 formations régionales et 500 dans l’offre nationale sont accessibles au second semestre… \n  \nInscriptions du 24 Janvier au 26 Février 2022 (à Amiens\, Lille ou Valenciennes)\n \nContact au 0800 719 720 (appel gratuit)
URL:https://www.cnam-hauts-de-france.fr/event/jpo-htt-2nd-semestre-en-cours-du-soir-et-a-distance-a-maubeuge/
LOCATION:centre de Maubeuge\, Pôle culturel Henri Lafitte - 1907 la Grimpette – 3 rue Georges Paillot\, MAUBEUGE\, 59600\, France
CATEGORIES:Réunion d'information
END:VEVENT
BEGIN:VEVENT
DTSTART;TZID=Europe/Paris:20220121T090000
DTEND;TZID=Europe/Paris:20220121T103000
DTSTAMP:20260426T032230
CREATED:20220111T144212Z
LAST-MODIFIED:20220117T153635Z
UID:6659-1642755600-1642761000@www.cnam-hauts-de-france.fr
SUMMARY:"P'tit Dej' des partenaires" - centre de LILLE
DESCRIPTION:Présentation de notre offre de formation aux partenaires prescripteurs : \n08h45-09h00 : Accueil\n09h00-09h30 : Présentation\n09h30-10h30 : café\, croissant et questions réponses \nInscrivez-vous aux présentations et rencontres avec nos conseillers :\n \n Assister à la présentation en présentiel à Lille\n \n Suivre la présentation en distanciel
URL:https://www.cnam-hauts-de-france.fr/event/ptit-dej-des-partenaires-centre-de-lille/
LOCATION:Cnam de Lille\, 8 boulevard Louis XIV\, LILLE\, 59044
CATEGORIES:Réunion d'information
END:VEVENT
BEGIN:VEVENT
DTSTART;TZID=Europe/Paris:20220121T090000
DTEND;TZID=Europe/Paris:20220121T103000
DTSTAMP:20260426T032230
CREATED:20220111T151236Z
LAST-MODIFIED:20220117T153721Z
UID:6671-1642755600-1642761000@www.cnam-hauts-de-france.fr
SUMMARY:"P'tit Dej' des partenaires" - centre de VALENCIENNES
DESCRIPTION:Présentation de notre offre de formation aux partenaires prescripteurs : \n09h00 : Présentation\n09h30-10h30 : café\, croissant et questions réponses \nInscrivez-vous aux présentations et rencontres avec nos conseillers :\n \n Assister à la présentation en présentiel à Valenciennes (vendredi 21 janvier 9h)    \n Suivre la présentation du centre de Lille en distanciel (vendredi 21 janvier 09h)   
URL:https://www.cnam-hauts-de-france.fr/event/ptit-dej-des-partenaires-centre-de-valenciennes/
LOCATION:Centre de Valenciennes\, 15 bis\, Place Jehan Froissart\, VALENCIENNES\, 59302\, France
CATEGORIES:Réunion d'information
END:VEVENT
BEGIN:VEVENT
DTSTART;TZID=Europe/Paris:20220122T093000
DTEND;TZID=Europe/Paris:20220122T130000
DTSTAMP:20260426T032230
CREATED:20211028T130324Z
LAST-MODIFIED:20220112T144316Z
UID:6420-1642843800-1642856400@www.cnam-hauts-de-france.fr
SUMMARY:JPO Formations du 2nd semestre - centre de VALENCIENNES
DESCRIPTION:Présentation de l’offre en journée\, le soir et à distance. \nVous souhaitez développer vos compétences\, acquérir un diplôme\, reprendre ou poursuivre des études… Plus de 60 formations régionales et 500 dans l’offre nationale sont accessibles au second semestre… \nInscrivez-vous à cette matinée d’information :  \n Rencontrer nos conseillers de formation (en présentiel à Valenciennes de 09h30 à 12h)   \n Suivre une réunion de présentation en distanciel (2 créneaux possibles : à 09h30 et 10h30)\nà 9h30    ou à 10h30   \n  \nInscriptions du 24 Janvier au 26 Février 2022 (à Amiens\, Lille ou Valenciennes)\n \nContact au 0800 719 720 (appel gratuit)
URL:https://www.cnam-hauts-de-france.fr/event/jpo-htt-2nd-semestre-en-cours-du-soir-et-a-distance-centre-de-valenciennes/
LOCATION:Centre de Valenciennes\, 15 bis\, Place Jehan Froissart\, VALENCIENNES\, 59302\, France
CATEGORIES:Réunion d'information
END:VEVENT
BEGIN:VEVENT
DTSTART;TZID=Europe/Paris:20220122T110000
DTEND;TZID=Europe/Paris:20220122T120000
DTSTAMP:20260426T032230
CREATED:20210913T130842Z
LAST-MODIFIED:20220114T150042Z
UID:6119-1642849200-1642852800@www.cnam-hauts-de-france.fr
SUMMARY:Réunion d’info. VAE
DESCRIPTION:Pour tout savoir sur la Validation des Acquis de l’Expérience\n \nLes activités de validation des acquis au CNAM (VAE\,VAPP et VES) continuent.\nVous êtes invité(e) à participer à une réunion d’information VA (Validation des Acquis au CNAM) :\nsoit sur Microsoft Teams (visioconférence sur internet)\nou sur le site d’Amiens (limité à 5 personnes\, confirmation de votre présence par mail odile.debuire@lecnam.net) \nSamedi 22 Janvier 2022 à 11h > Cliquez ici pour participer à la réunion \n \n+ d’info sur la VAE au Cnam HdF
URL:https://www.cnam-hauts-de-france.fr/event/reunion-dinfo-vae-6/
LOCATION:Centre d’Amiens\, Avenue des Facultés\, AMIENS\, 80000\, France
CATEGORIES:Réunion d'information,Réunion d'information virtuelle (en ligne)
END:VEVENT
BEGIN:VEVENT
DTSTART;TZID=Europe/Paris:20220127T120000
DTEND;TZID=Europe/Paris:20220127T130000
DTSTAMP:20260426T032230
CREATED:20201130T130336Z
LAST-MODIFIED:20220124T153711Z
UID:1489-1643284800-1643288400@www.cnam-hauts-de-france.fr
SUMMARY:Réunion d’information sur les cours du soir et à distance
DESCRIPTION:Débuter une formation en février – Présentation de l’offre de formation HTT\, en cours du soir et formation à distance. \nVous souhaitez développer vos compétences\, acquérir un diplôme\, reprendre ou poursuivre des études…\nPlus 500 formations vous sont proposées dans l’offre nationale\, dont une centaine au niveau régional\, en cours du soir et formation à distance… \nCette réunion d’information est gratuite et accessible à tous sur inscription. (en ligne via Teams)
URL:https://www.cnam-hauts-de-france.fr/event/reunion-dinformation-sur-les-cours-du-soir-et-a-distance/
LOCATION:Cnam de Lille\, 8 boulevard Louis XIV\, LILLE\, 59044
CATEGORIES:Réunion d'information virtuelle (en ligne)
END:VEVENT
BEGIN:VEVENT
DTSTART;TZID=Europe/Paris:20220131T143000
DTEND;TZID=Europe/Paris:20220131T153000
DTSTAMP:20260426T032230
CREATED:20220114T141520Z
LAST-MODIFIED:20220114T141856Z
UID:6774-1643639400-1643643000@www.cnam-hauts-de-france.fr
SUMMARY:Présentation des nouvelles formations en ressources humaines à Maubeuge
DESCRIPTION:Objectifs\, programmes et infos générales concernant la Licence 3 en Ressources Humaines proposée à Maubeuge ainsi que 3 nouvelles formations courtes :\n– Gestion de la Paye\,\n– Droit social : les relations individuelles\,\n– Droit social : les relations collectives. \nVenez nombreux à la présentation de cette nouvelle offre\nle lundi 31 Janvier 2022 à 14H30\nau Pôle Henri LAFITTE (1èr étage) \n+ d’info. sur cette nouvelle offre RH à Maubeuge
URL:https://www.cnam-hauts-de-france.fr/event/presentation-des-nouvelles-formations-en-ressources-humaines-a-maubeuge/
LOCATION:centre de Maubeuge\, Pôle culturel Henri Lafitte - 1907 la Grimpette – 3 rue Georges Paillot\, MAUBEUGE\, 59600\, France
CATEGORIES:Réunion d'information
END:VEVENT
END:VCALENDAR