BEGIN:VCALENDAR
VERSION:2.0
PRODID:-//Cnam Hauts de France - ECPv6.2.9//NONSGML v1.0//EN
CALSCALE:GREGORIAN
METHOD:PUBLISH
X-WR-CALNAME:Cnam Hauts de France
X-ORIGINAL-URL:https://www.cnam-hauts-de-france.fr
X-WR-CALDESC:évènements pour Cnam Hauts de France
REFRESH-INTERVAL;VALUE=DURATION:PT1H
X-Robots-Tag:noindex
X-PUBLISHED-TTL:PT1H
BEGIN:VTIMEZONE
TZID:Europe/Paris
BEGIN:DAYLIGHT
TZOFFSETFROM:+0100
TZOFFSETTO:+0200
TZNAME:CEST
DTSTART:20210328T010000
END:DAYLIGHT
BEGIN:STANDARD
TZOFFSETFROM:+0200
TZOFFSETTO:+0100
TZNAME:CET
DTSTART:20211031T010000
END:STANDARD
END:VTIMEZONE
BEGIN:VEVENT
DTSTART;TZID=Europe/Paris:20211109T090000
DTEND;TZID=Europe/Paris:20211109T170000
DTSTAMP:20260426T055611
CREATED:20211028T102002Z
LAST-MODIFIED:20211028T115140Z
UID:6403-1636448400-1636477200@www.cnam-hauts-de-france.fr
SUMMARY:Journée nationale de la reconversion professionnelle
DESCRIPTION:Le Cnam Hauts-de-France participera à la Journée nationale de la reconversion professionnelle le 9 Novembre 2021 \nLassé(e) de votre job actuel ?\nBesoin de prendre un nouveau départ professionnel ?\nEnvie d’apprendre un nouveau métier ?\nDe faire enfin ce que vous avez toujours rêvé de faire ?\nC’est le moment de vous lancer ! \nLe 9 novembre\, faites le point sur vos envies et objectifs professionnels et profitez de conseils précieux pour réussir votre reconversion\, étape par étape. \nFaire le point\, se former\, s’informer\, financer son projet\, nous apporterons des réponses claires à toutes vos questions. \nTrouvez le métier et la formation qui vous correspondent : courte ou longue\, en présentiel ou à distance\, dans de nombreux secteurs secteurs : comptabilité\, gestion\, management\, langues étrangères\, commerce\, communication\, mobilité\, agro\, informatique\, logistique\, Energies renouvelables\, RH… \nAu programme :\n \n– Rencontre avec les services Accueil Information et Orientation des centres Cnam d’Amiens et de Lille de 9h à 17h (Journée Portes ouvertes) \n– Participation du Cnam HdF à l’Afterwork de la reconversion organisé par Transitions Pro HdF de 17h à 19h à Valenciennes (Parc d’Activités de l’Aérodrome Ouest – 50 rue Louis Duvant\, VAL PARK à Rouvignies) \n+ d’info sur cette journée nationale : https://www.nouvelleviepro.fr/salon/jnr/carte# \nContact Cnam : 0800 719 720
URL:https://www.cnam-hauts-de-france.fr/event/journee-nationale-de-la-reconversion-professionnelle/
CATEGORIES:Journée d'information,JPO
END:VEVENT
END:VCALENDAR