BEGIN:VCALENDAR
VERSION:2.0
PRODID:-//Cnam Hauts de France - ECPv6.2.9//NONSGML v1.0//EN
CALSCALE:GREGORIAN
METHOD:PUBLISH
X-ORIGINAL-URL:https://www.cnam-hauts-de-france.fr
X-WR-CALDESC:évènements pour Cnam Hauts de France
REFRESH-INTERVAL;VALUE=DURATION:PT1H
X-Robots-Tag:noindex
X-PUBLISHED-TTL:PT1H
BEGIN:VTIMEZONE
TZID:Europe/Paris
BEGIN:DAYLIGHT
TZOFFSETFROM:+0100
TZOFFSETTO:+0200
TZNAME:CEST
DTSTART:20260329T010000
END:DAYLIGHT
BEGIN:STANDARD
TZOFFSETFROM:+0200
TZOFFSETTO:+0100
TZNAME:CET
DTSTART:20261025T010000
END:STANDARD
END:VTIMEZONE
BEGIN:VEVENT
DTSTART;TZID=Europe/Paris:20261119T100000
DTEND;TZID=Europe/Paris:20261119T170000
DTSTAMP:20260421T114733
CREATED:20250916T082303Z
LAST-MODIFIED:20250916T082303Z
UID:30584-1795082400-1795107600@www.cnam-hauts-de-france.fr
SUMMARY:Salon 24h pour l'emploi et la formation - AMIENS
DESCRIPTION:Nous serons présent sur ce salon 24h pour l’emploi et la formation à Amiens pour vous présenter notre offre de formations en présentiel et à distance\, en alternance\, nos services d’accompagnement VAE et de Bilans de compétences. \n+ d’info sur notre offre de formations et de services \n 
URL:https://www.cnam-hauts-de-france.fr/event/salon-24h-pour-lemploi-et-la-formation-amiens/
LOCATION:Mégacité d’Amiens\, 101 Av. de l'Hippodrome\, Amiens\, 80000\, France
CATEGORIES:Salon formations / emploi
END:VEVENT
END:VCALENDAR