BEGIN:VCALENDAR
VERSION:2.0
PRODID:-//Cnam Hauts de France - ECPv6.2.9//NONSGML v1.0//EN
CALSCALE:GREGORIAN
METHOD:PUBLISH
X-WR-CALNAME:Cnam Hauts de France
X-ORIGINAL-URL:https://www.cnam-hauts-de-france.fr
X-WR-CALDESC:évènements pour Cnam Hauts de France
REFRESH-INTERVAL;VALUE=DURATION:PT1H
X-Robots-Tag:noindex
X-PUBLISHED-TTL:PT1H
BEGIN:VTIMEZONE
TZID:Europe/Paris
BEGIN:DAYLIGHT
TZOFFSETFROM:+0100
TZOFFSETTO:+0200
TZNAME:CEST
DTSTART:20250330T010000
END:DAYLIGHT
BEGIN:STANDARD
TZOFFSETFROM:+0200
TZOFFSETTO:+0100
TZNAME:CET
DTSTART:20251026T010000
END:STANDARD
END:VTIMEZONE
BEGIN:VEVENT
DTSTART;TZID=Europe/Paris:20251128T090000
DTEND;TZID=Europe/Paris:20251128T130000
DTSTAMP:20260421T114353
CREATED:20251001T102631Z
LAST-MODIFIED:20251112T130755Z
UID:30947-1764320400-1764334800@www.cnam-hauts-de-france.fr
SUMMARY:Forum / Job dating - Métiers de l’industrie et de la logistique - GRAVELINES
DESCRIPTION:Venez rencontrer nos conseillers lors du Forum / Job dating – Métiers de l’industrie et de la logistique organisé par la Mission Locale des Rives de l’Aa et de la Colme à Gravelines le vendredi 28 novembre 2025. \n👥 Public : tout public (demandeurs d’emplois\, salariés…) \n📍 Lieu : Salle Frédéric Petit – Rue du Pont de pierre à Gravelines \n🕘 Horaires : de 9h à 13h \nVoir notre offre de diplômes accessibles en alternance : https://www.cnam-hauts-de-france.fr/poursuites-detudes-en-alternance-au-cnam-hauts-de-france/ \n  \n \n 
URL:https://www.cnam-hauts-de-france.fr/event/forum-job-dating-metiers-de-lindustrie-et-de-la-logistique-gravelines/
LOCATION:Salle Frédéric Petit\, Rue du Pont de pierre\, Gravelines\, 59820\, France
CATEGORIES:Forum,Job Dating
END:VEVENT
END:VCALENDAR