BEGIN:VCALENDAR
VERSION:2.0
PRODID:-//Cnam Hauts de France - ECPv6.2.9//NONSGML v1.0//EN
CALSCALE:GREGORIAN
METHOD:PUBLISH
X-WR-CALNAME:Cnam Hauts de France
X-ORIGINAL-URL:https://www.cnam-hauts-de-france.fr
X-WR-CALDESC:évènements pour Cnam Hauts de France
REFRESH-INTERVAL;VALUE=DURATION:PT1H
X-Robots-Tag:noindex
X-PUBLISHED-TTL:PT1H
BEGIN:VTIMEZONE
TZID:Europe/Paris
BEGIN:DAYLIGHT
TZOFFSETFROM:+0100
TZOFFSETTO:+0200
TZNAME:CEST
DTSTART:20250330T010000
END:DAYLIGHT
BEGIN:STANDARD
TZOFFSETFROM:+0200
TZOFFSETTO:+0100
TZNAME:CET
DTSTART:20251026T010000
END:STANDARD
END:VTIMEZONE
BEGIN:VEVENT
DTSTART;TZID=Europe/Paris:20251122T100000
DTEND;TZID=Europe/Paris:20251122T170000
DTSTAMP:20260423T114135
CREATED:20221103T120749Z
LAST-MODIFIED:20251114T111704Z
UID:11492-1763805600-1763830800@www.cnam-hauts-de-france.fr
SUMMARY:Salon masters\, mastères spécialisés et MBA - LILLE
DESCRIPTION:Vous envisagez de poursuivre vos études après un bac + 3 et vous vous demandez quelles sont les différences entre un master\, un mastère spécialisé ou encore un MBA ?\nDécouvrez les spécificités de chacun de ces diplômes et leurs débouchés.\n\nNous serons présent sur ce salon Masters à Lille pour vous présenter notre offre de formations en alternance \, en présentiel ou à distance. \n+ d’info sur notre offre de formations et de services \n 
URL:https://www.cnam-hauts-de-france.fr/event/salon-masters-et-masteres-specialises-a-lille/
LOCATION:GARAGE\, 34 Boulevard Carnot\, LILLE\, 59000
CATEGORIES:Forum,Salon formations / emploi
END:VEVENT
BEGIN:VEVENT
DTSTART;TZID=Europe/Paris:20251122T100000
DTEND;TZID=Europe/Paris:20251122T170000
DTSTAMP:20260423T114135
CREATED:20221103T122918Z
LAST-MODIFIED:20250916T095441Z
UID:11500-1763805600-1763830800@www.cnam-hauts-de-france.fr
SUMMARY:Salon des études supérieures - AMIENS
DESCRIPTION:Venez nous rencontrer sur ce salon des études supérieures et découvrir notre offre de formations en alternance. \n+ d’info sur notre offre de formations et de services \n 
URL:https://www.cnam-hauts-de-france.fr/event/salon-des-etudes-superieures-amiens/
LOCATION:Mégacité d’Amiens\, 101 Av. de l'Hippodrome\, Amiens\, 80000\, France
CATEGORIES:Forum,Salon formations / emploi
END:VEVENT
END:VCALENDAR