BEGIN:VCALENDAR
VERSION:2.0
PRODID:-//Cnam Hauts de France - ECPv6.2.9//NONSGML v1.0//EN
CALSCALE:GREGORIAN
METHOD:PUBLISH
X-ORIGINAL-URL:https://www.cnam-hauts-de-france.fr
X-WR-CALDESC:évènements pour Cnam Hauts de France
REFRESH-INTERVAL;VALUE=DURATION:PT1H
X-Robots-Tag:noindex
X-PUBLISHED-TTL:PT1H
BEGIN:VTIMEZONE
TZID:Europe/Paris
BEGIN:DAYLIGHT
TZOFFSETFROM:+0100
TZOFFSETTO:+0200
TZNAME:CEST
DTSTART:20250330T010000
END:DAYLIGHT
BEGIN:STANDARD
TZOFFSETFROM:+0200
TZOFFSETTO:+0100
TZNAME:CET
DTSTART:20251026T010000
END:STANDARD
END:VTIMEZONE
BEGIN:VEVENT
DTSTART;TZID=Europe/Paris:20251011T090000
DTEND;TZID=Europe/Paris:20251011T170000
DTSTAMP:20260421T131732
CREATED:20221103T114034Z
LAST-MODIFIED:20250916T093206Z
UID:11484-1760173200-1760202000@www.cnam-hauts-de-france.fr
SUMMARY:Salon de l'étudiant - COMPIEGNE
DESCRIPTION:Un rendez-vous incontournable pour réfléchir à votre projet d’orientation et votre futur métier\, et construire votre parcours d’études. \nNous serons présent sur ce salon de l’étudiant à Compiègne pour vous présenter notre offre de formations en alternance\, en présentiel et à distance. \n+ d’info sur notre offre de formations et de services \n 
URL:https://www.cnam-hauts-de-france.fr/event/salon-de-letudiant-compiegne/
LOCATION:Le Tigre\, 2 Rue Jean Mermoz\, Margny-lès-Compiègne\, 60280\, France
CATEGORIES:Forum,Salon formations / emploi
END:VEVENT
END:VCALENDAR