BEGIN:VCALENDAR
VERSION:2.0
PRODID:-//Cnam Hauts de France - ECPv6.2.9//NONSGML v1.0//EN
CALSCALE:GREGORIAN
METHOD:PUBLISH
X-WR-CALNAME:Cnam Hauts de France
X-ORIGINAL-URL:https://www.cnam-hauts-de-france.fr
X-WR-CALDESC:évènements pour Cnam Hauts de France
REFRESH-INTERVAL;VALUE=DURATION:PT1H
X-Robots-Tag:noindex
X-PUBLISHED-TTL:PT1H
BEGIN:VTIMEZONE
TZID:Europe/Paris
BEGIN:DAYLIGHT
TZOFFSETFROM:+0100
TZOFFSETTO:+0200
TZNAME:CEST
DTSTART:20250330T010000
END:DAYLIGHT
BEGIN:STANDARD
TZOFFSETFROM:+0200
TZOFFSETTO:+0100
TZNAME:CET
DTSTART:20251026T010000
END:STANDARD
END:VTIMEZONE
BEGIN:VEVENT
DTSTART;TZID=Europe/Paris:20250919T133000
DTEND;TZID=Europe/Paris:20250919T203000
DTSTAMP:20260421T145811
CREATED:20250725T093147Z
LAST-MODIFIED:20250916T142815Z
UID:29552-1758288600-1758313800@www.cnam-hauts-de-france.fr
SUMMARY:Journée d'intégration des apprentis - LILLE
DESCRIPTION:Afin de souhaiter la bienvenue aux nouveaux apprentis des centres de Lille et de Valenciennes\, les équipes du CNAM Hauts de France préparent un programme sur mesure pour bien démarrer l’année ! \nCet événement a été imaginé pour accueillir les nouveaux apprentis des centres de Lille et Valenciennes du Cnam Hauts de France. \nL’après-midi leur permet de s’informer sur divers thèmes essentiels à la vie d’un.e apprenti.e.\nPlace ensuite à la convivialité avec une animation JUNGLE QUIZ pour finalement clore la journée autour d’un verre dans une ambiance musicale. \n 
URL:https://www.cnam-hauts-de-france.fr/event/journee-dintegration-des-alternants-rentree-2025-lille/
LOCATION:Cnam de Lille\, 8 boulevard Louis XIV\, LILLE\, 59044
END:VEVENT
END:VCALENDAR