BEGIN:VCALENDAR
VERSION:2.0
PRODID:-//Cnam Hauts de France - ECPv6.2.9//NONSGML v1.0//EN
CALSCALE:GREGORIAN
METHOD:PUBLISH
X-ORIGINAL-URL:https://www.cnam-hauts-de-france.fr
X-WR-CALDESC:évènements pour Cnam Hauts de France
REFRESH-INTERVAL;VALUE=DURATION:PT1H
X-Robots-Tag:noindex
X-PUBLISHED-TTL:PT1H
BEGIN:VTIMEZONE
TZID:Europe/Paris
BEGIN:DAYLIGHT
TZOFFSETFROM:+0100
TZOFFSETTO:+0200
TZNAME:CEST
DTSTART:20250330T010000
END:DAYLIGHT
BEGIN:STANDARD
TZOFFSETFROM:+0200
TZOFFSETTO:+0100
TZNAME:CET
DTSTART:20251026T010000
END:STANDARD
END:VTIMEZONE
BEGIN:VEVENT
DTSTART;TZID=Europe/Paris:20250909T133000
DTEND;TZID=Europe/Paris:20250909T170000
DTSTAMP:20260421T150116
CREATED:20250716T075547Z
LAST-MODIFIED:20250901T082418Z
UID:29336-1757424600-1757437200@www.cnam-hauts-de-france.fr
SUMMARY:Rendez-vous de la formation - VILLENEUVE D'ASCQ
DESCRIPTION:Vous avez un projet de formation ? \nVenez nous rencontrer lors de la 3ème édition des RDV de la Formation organisée par l’Adélie (Mission locale\, Plie et Maison De l’Emploi – VAMB). \n📅 Mardi 09 septembre 2025 – de 13:30 à 17:00 \n📌 80 Rue Yves Decugis\, 59650 Villeneuve d’Ascq
URL:https://www.cnam-hauts-de-france.fr/event/rendez-vous-de-la-formation-villeneuve-dascq/
CATEGORIES:Forum,Rencontre formations
END:VEVENT
END:VCALENDAR