BEGIN:VCALENDAR
VERSION:2.0
PRODID:-//Cnam Hauts de France - ECPv6.2.9//NONSGML v1.0//EN
CALSCALE:GREGORIAN
METHOD:PUBLISH
X-WR-CALNAME:Cnam Hauts de France
X-ORIGINAL-URL:https://www.cnam-hauts-de-france.fr
X-WR-CALDESC:évènements pour Cnam Hauts de France
REFRESH-INTERVAL;VALUE=DURATION:PT1H
X-Robots-Tag:noindex
X-PUBLISHED-TTL:PT1H
BEGIN:VTIMEZONE
TZID:Europe/Paris
BEGIN:DAYLIGHT
TZOFFSETFROM:+0100
TZOFFSETTO:+0200
TZNAME:CEST
DTSTART:20250330T010000
END:DAYLIGHT
BEGIN:STANDARD
TZOFFSETFROM:+0200
TZOFFSETTO:+0100
TZNAME:CET
DTSTART:20251026T010000
END:STANDARD
END:VTIMEZONE
BEGIN:VEVENT
DTSTART;TZID=Europe/Paris:20250903T100000
DTEND;TZID=Europe/Paris:20250903T160000
DTSTAMP:20260421T145811
CREATED:20250604T145345Z
LAST-MODIFIED:20250604T145905Z
UID:28302-1756893600-1756915200@www.cnam-hauts-de-france.fr
SUMMARY:Portes ouvertes du campus connecté - SAINT-OMER
DESCRIPTION:Le Cnam sera présent le 3 septembre à la Journée portes ouvertes du campus connecté de SAINT-OMER\, de 10h à 16h.\nVenez découvrir notre offre de plus de 700 formations accessibles à distance.\n+d’info. sur nos formations à distance : https://www.cnam-hauts-de-france.fr/formation-a-distance-et-hybride/ \n 
URL:https://www.cnam-hauts-de-france.fr/event/portes-ouvertes-du-campus-connecte-saint-omer/
LOCATION:La Station\, Place du 8 Mai\, Saint-Omer\, 62500\, France
CATEGORIES:Journée d'information
END:VEVENT
END:VCALENDAR