BEGIN:VCALENDAR
VERSION:2.0
PRODID:-//Cnam Hauts de France - ECPv6.2.9//NONSGML v1.0//EN
CALSCALE:GREGORIAN
METHOD:PUBLISH
X-ORIGINAL-URL:https://www.cnam-hauts-de-france.fr
X-WR-CALDESC:évènements pour Cnam Hauts de France
REFRESH-INTERVAL;VALUE=DURATION:PT1H
X-Robots-Tag:noindex
X-PUBLISHED-TTL:PT1H
BEGIN:VTIMEZONE
TZID:Europe/Paris
BEGIN:DAYLIGHT
TZOFFSETFROM:+0100
TZOFFSETTO:+0200
TZNAME:CEST
DTSTART:20250330T010000
END:DAYLIGHT
BEGIN:STANDARD
TZOFFSETFROM:+0200
TZOFFSETTO:+0100
TZNAME:CET
DTSTART:20251026T010000
END:STANDARD
END:VTIMEZONE
BEGIN:VEVENT
DTSTART;TZID=Europe/Paris:20250716T100000
DTEND;TZID=Europe/Paris:20250716T110000
DTSTAMP:20260421T181924
CREATED:20250624T124129Z
LAST-MODIFIED:20250624T125220Z
UID:28772-1752660000-1752663600@www.cnam-hauts-de-france.fr
SUMMARY:Présentation de la Licence pro. Logistique - VALENCIENNES
DESCRIPTION:Présentation de la Licence professionnelle Logistique et pilotage des flux du Cnam et de ses financements possibles \n⚙️en alternance ou en formation continue \n🎓 Formation accessible aux titulaires d’un diplôme Bac+2 \n📅 Prochaine session à partir de septembre 2025 au centre de Valenciennes. \n💼 Formation éligible au financement Région\, dans le cadre du PRF pour les demandeurs d’emploi. \n \nhttps://formation.cnam-hauts-de-france.fr/formations/logistique/licence-professionnelle-logistique-et-pilotage-des-flux-en-alternance/formations_0_38.html
URL:https://www.cnam-hauts-de-france.fr/event/presentation-de-la-licence-pro-logistique-valenciennes/
LOCATION:Centre de Valenciennes\, 15 bis\, Place Jehan Froissart\, VALENCIENNES\, 59302\, France
CATEGORIES:Réunion d'information
END:VEVENT
BEGIN:VEVENT
DTSTART;TZID=Europe/Paris:20250716T150000
DTEND;TZID=Europe/Paris:20250716T160000
DTSTAMP:20260421T181924
CREATED:20250624T125837Z
LAST-MODIFIED:20250624T125837Z
UID:28777-1752678000-1752681600@www.cnam-hauts-de-france.fr
SUMMARY:Présentation de la Licence pro. Intervention sociale - VALENCIENNES
DESCRIPTION:Présentation de la Licence professionnelle Intervention sociale\, insertion sociale et professionnelle du Cnam et de ses financements possibles \n⚙️en alternance ou en formation continue \n🎓 Formation accessible aux titulaires d’un diplôme Bac+2 \n📅 Prochaine session à partir de septembre 2025 au centre de Valenciennes. \n💼 Formation éligible au financement Région\, dans le cadre du PRF pour les demandeurs d’emploi. \n \nhttps://formation.cnam-hauts-de-france.fr/formations/metiers-de-la-sante-action-sociale/licence-professionnelle-intervention-sociale-insertion-sociale-et-professionnelle-en-alternance/formations_0_908.html \n 
URL:https://www.cnam-hauts-de-france.fr/event/presentation-de-la-licence-pro-intervention-sociale-valenciennes/
LOCATION:Centre de Valenciennes\, 15 bis\, Place Jehan Froissart\, VALENCIENNES\, 59302\, France
CATEGORIES:Réunion d'information
END:VEVENT
END:VCALENDAR