BEGIN:VCALENDAR
VERSION:2.0
PRODID:-//Cnam Hauts de France - ECPv6.2.9//NONSGML v1.0//EN
CALSCALE:GREGORIAN
METHOD:PUBLISH
X-ORIGINAL-URL:https://www.cnam-hauts-de-france.fr
X-WR-CALDESC:évènements pour Cnam Hauts de France
REFRESH-INTERVAL;VALUE=DURATION:PT1H
X-Robots-Tag:noindex
X-PUBLISHED-TTL:PT1H
BEGIN:VTIMEZONE
TZID:Europe/Paris
BEGIN:DAYLIGHT
TZOFFSETFROM:+0100
TZOFFSETTO:+0200
TZNAME:CEST
DTSTART:20250330T010000
END:DAYLIGHT
BEGIN:STANDARD
TZOFFSETFROM:+0200
TZOFFSETTO:+0100
TZNAME:CET
DTSTART:20251026T010000
END:STANDARD
END:VTIMEZONE
BEGIN:VEVENT
DTSTART;TZID=Europe/Paris:20250328T093000
DTEND;TZID=Europe/Paris:20250328T123000
DTSTAMP:20260422T011343
CREATED:20250325T085151Z
LAST-MODIFIED:20250325T085838Z
UID:27054-1743154200-1743165000@www.cnam-hauts-de-france.fr
SUMMARY:Journée de Proch'Info-Formation - SAINT-OMER
DESCRIPTION:📢 Venez rencontrer nos conseillers à la Journée de Proch’Info-Formation consacrée cette année plus particulièrement aux métiers de l’eau.\n🎯 Nous y présenterons notamment l’ouverture de la nouvelle 🎓 Licence Professionnelle Aménagement et gestion des ressources en eau du Cnam\, au Lycée Blaise Pascal de Longuenesse en septembre 2025. \n📅 le 28 mars 2025 – de 9h30 à 12h30 \n📌 Maison du Développement Economique – Salle Jacques Durand\,à Saint-Omer \n💡 au programme de cette matinée :\n \n\nStands des partenaires\nEscape game sur l’Industrie\nDécouverte des Métiers de l’eau via les casques de réalité virtuelle\n\n \n✅ Voir le programme de la Licence Professionnelle Aménagement et gestion des ressources en eau 
URL:https://www.cnam-hauts-de-france.fr/event/journee-de-prochinfo-formation-saint-omer/
CATEGORIES:Forum
END:VEVENT
END:VCALENDAR