BEGIN:VCALENDAR
VERSION:2.0
PRODID:-//Cnam Hauts de France - ECPv6.2.9//NONSGML v1.0//EN
CALSCALE:GREGORIAN
METHOD:PUBLISH
X-WR-CALNAME:Cnam Hauts de France
X-ORIGINAL-URL:https://www.cnam-hauts-de-france.fr
X-WR-CALDESC:évènements pour Cnam Hauts de France
REFRESH-INTERVAL;VALUE=DURATION:PT1H
X-Robots-Tag:noindex
X-PUBLISHED-TTL:PT1H
BEGIN:VTIMEZONE
TZID:Europe/Paris
BEGIN:DAYLIGHT
TZOFFSETFROM:+0100
TZOFFSETTO:+0200
TZNAME:CEST
DTSTART:20250330T010000
END:DAYLIGHT
BEGIN:STANDARD
TZOFFSETFROM:+0200
TZOFFSETTO:+0100
TZNAME:CET
DTSTART:20251026T010000
END:STANDARD
END:VTIMEZONE
BEGIN:VEVENT
DTSTART;TZID=Europe/Paris:20250319T140000
DTEND;TZID=Europe/Paris:20250319T150000
DTSTAMP:20260422T011118
CREATED:20250226T133512Z
LAST-MODIFIED:20250226T134254Z
UID:26595-1742392800-1742396400@www.cnam-hauts-de-france.fr
SUMMARY:Conférence : Management et gouvernance démocratique au travail - LILLE
DESCRIPTION:Le Cnam Hauts-de-France organise une Conférence sur le thème : Management et gouvernance démocratique au travail\n par Simon Cottin-Marx\, Maître de conférences au Conservatoire national des arts et métiers \nAlors que de nombreux salariés aspirent à une transformation de l’organisation du travail\, que signifie concrètement la promesse de travailler dans des collectifs démocratiques ? \nPrenant au sérieux les valeurs de démocratie et d’équité prônées par les acteurs de l’économie sociale et solidaire\, Simon Cottin-Marx explore des initiatives d’organisation collective du travail et montre qu’il est possible de travailler autrement. \n📅 le 19 mars 2025\, à 14h\n📍 Centre Cnam de Lille\, 8 Bd. Louis XIV \nConférence accessible à tous gratuitement\, sur inscription et en fonction des places disponibles : \nContact / Inscriptions : sofian.delli@lecnam.net
URL:https://www.cnam-hauts-de-france.fr/event/conference-management-et-gouvernance-democratique-au-travail-lille/
LOCATION:Cnam de Lille\, 8 boulevard Louis XIV\, LILLE\, 59044
CATEGORIES:Conférence
END:VEVENT
END:VCALENDAR