BEGIN:VCALENDAR
VERSION:2.0
PRODID:-//Cnam Hauts de France - ECPv6.2.9//NONSGML v1.0//EN
CALSCALE:GREGORIAN
METHOD:PUBLISH
X-ORIGINAL-URL:https://www.cnam-hauts-de-france.fr
X-WR-CALDESC:évènements pour Cnam Hauts de France
REFRESH-INTERVAL;VALUE=DURATION:PT1H
X-Robots-Tag:noindex
X-PUBLISHED-TTL:PT1H
BEGIN:VTIMEZONE
TZID:Europe/Paris
BEGIN:DAYLIGHT
TZOFFSETFROM:+0100
TZOFFSETTO:+0200
TZNAME:CEST
DTSTART:20250330T010000
END:DAYLIGHT
BEGIN:STANDARD
TZOFFSETFROM:+0200
TZOFFSETTO:+0100
TZNAME:CET
DTSTART:20251026T010000
END:STANDARD
END:VTIMEZONE
BEGIN:VEVENT
DTSTART;TZID=Europe/Paris:20250306T090000
DTEND;TZID=Europe/Paris:20250306T123000
DTSTAMP:20260422T011302
CREATED:20250219T155446Z
LAST-MODIFIED:20250219T155722Z
UID:26470-1741251600-1741264200@www.cnam-hauts-de-france.fr
SUMMARY:JobSourcing Alternance - LILLE
DESCRIPTION:Le Cnam  sera présent au JOBSOURCING CFA\, organisé par l’Opco ATLAS\, en partenariat avec le Conseil régional Hauts-de-France. \n📅 le 6 mars prochain\, de 9h à 12h30\n📍 Siège de la Région : 151 Avenue du Président Hoover à Lille \nVenez rencontrer nos conseillers qui vous présenterons plus particulièrement nos formations en Comptabilité et Ingénierie. \n \n  \n> voir aussi : Toute notre offre de diplômes accessibles en alternance
URL:https://www.cnam-hauts-de-france.fr/event/jobsourcing-alternance-lille/
LOCATION:Siège de Région Hauts de France\, 151 Avenue du Président Hoover\, LILLE\, 59000\, France
CATEGORIES:Rencontre formations,Rencontres Alternance
END:VEVENT
END:VCALENDAR