BEGIN:VCALENDAR
VERSION:2.0
PRODID:-//Cnam Hauts de France - ECPv6.2.9//NONSGML v1.0//EN
CALSCALE:GREGORIAN
METHOD:PUBLISH
X-WR-CALNAME:Cnam Hauts de France
X-ORIGINAL-URL:https://www.cnam-hauts-de-france.fr
X-WR-CALDESC:évènements pour Cnam Hauts de France
REFRESH-INTERVAL;VALUE=DURATION:PT1H
X-Robots-Tag:noindex
X-PUBLISHED-TTL:PT1H
BEGIN:VTIMEZONE
TZID:Europe/Paris
BEGIN:DAYLIGHT
TZOFFSETFROM:+0100
TZOFFSETTO:+0200
TZNAME:CEST
DTSTART:20250330T010000
END:DAYLIGHT
BEGIN:STANDARD
TZOFFSETFROM:+0200
TZOFFSETTO:+0100
TZNAME:CET
DTSTART:20251026T010000
END:STANDARD
END:VTIMEZONE
BEGIN:VEVENT
DTSTART;TZID=Europe/Paris:20250123T090000
DTEND;TZID=Europe/Paris:20250123T160000
DTSTAMP:20260422T040650
CREATED:20241023T120522Z
LAST-MODIFIED:20241023T120522Z
UID:24468-1737622800-1737648000@www.cnam-hauts-de-france.fr
SUMMARY:Forum de l’emploi\, du handicap et de l’apprentissage - ANZIN
DESCRIPTION:Venez nous rencontrer au Forum de l’emploi\, du handicap et de l’apprentissage. \n📆 jeudi 23 janvier 2025 🕘 de 9h à 16h\n📌 Gymnase Christophe Cheval – Complexe sportif Michel Bernard\, Avenue Léo Lagrange à Anzin \n🎯 Voir toute notre offre de formations en présentiel et à distance\, en alternance\, nos services d’accompagnement VAE et de Bilans de compétences : https://www.cnam-hauts-de-france.fr/offre-de-formations-et-services/ \n \n 
URL:https://www.cnam-hauts-de-france.fr/event/forum-emploi-handicap-et-apprentissage/
CATEGORIES:Forum,Salon alternance apprentissage,Salon formations / emploi
END:VEVENT
END:VCALENDAR