BEGIN:VCALENDAR
VERSION:2.0
PRODID:-//Cnam Hauts de France - ECPv6.2.9//NONSGML v1.0//EN
CALSCALE:GREGORIAN
METHOD:PUBLISH
X-ORIGINAL-URL:https://www.cnam-hauts-de-france.fr
X-WR-CALDESC:évènements pour Cnam Hauts de France
REFRESH-INTERVAL;VALUE=DURATION:PT1H
X-Robots-Tag:noindex
X-PUBLISHED-TTL:PT1H
BEGIN:VTIMEZONE
TZID:Europe/Paris
BEGIN:DAYLIGHT
TZOFFSETFROM:+0100
TZOFFSETTO:+0200
TZNAME:CEST
DTSTART:20240331T010000
END:DAYLIGHT
BEGIN:STANDARD
TZOFFSETFROM:+0200
TZOFFSETTO:+0100
TZNAME:CET
DTSTART:20241027T010000
END:STANDARD
END:VTIMEZONE
BEGIN:VEVENT
DTSTART;TZID=Europe/Paris:20240601T093000
DTEND;TZID=Europe/Paris:20240601T123000
DTSTAMP:20260422T151720
CREATED:20240417T073801Z
LAST-MODIFIED:20240417T074102Z
UID:21025-1717234200-1717245000@www.cnam-hauts-de-france.fr
SUMMARY:Journée Portes Ouvertes "Toutes formations" - centres de LILLE et de VALENCIENNES
DESCRIPTION:Vous souhaitez développer vos compétences\, acquérir un diplôme\, reprendre ou poursuivre des études…  \nVenez rencontrer nos conseillers et découvrir notre offre de formations « toutes modalités » : en formation continue en journée\, en alternance\, en cours du soir et à distance…\n \n\ncentre de Lille : 5\, 7 et 8 Bd. Louis XIV – tél. 03.20.29.86.68\ncentre de Valenciennes : 15 bis\, Place Jehan Froissart – tél. 03.27.23.04.05\n\n Voir toute notre offre de formations et services \n Voir toutes nos coordonnées \n 
URL:https://www.cnam-hauts-de-france.fr/event/journee-portes-ouvertes-toutes-formations-centres-de-lille-et-de-valenciennes/
CATEGORIES:Journée d'information,JPO
END:VEVENT
END:VCALENDAR