BEGIN:VCALENDAR
VERSION:2.0
PRODID:-//Cnam Hauts de France - ECPv6.2.9//NONSGML v1.0//EN
CALSCALE:GREGORIAN
METHOD:PUBLISH
X-WR-CALNAME:Cnam Hauts de France
X-ORIGINAL-URL:https://www.cnam-hauts-de-france.fr
X-WR-CALDESC:évènements pour Cnam Hauts de France
REFRESH-INTERVAL;VALUE=DURATION:PT1H
X-Robots-Tag:noindex
X-PUBLISHED-TTL:PT1H
BEGIN:VTIMEZONE
TZID:Europe/Paris
BEGIN:DAYLIGHT
TZOFFSETFROM:+0100
TZOFFSETTO:+0200
TZNAME:CEST
DTSTART:20240331T010000
END:DAYLIGHT
BEGIN:STANDARD
TZOFFSETFROM:+0200
TZOFFSETTO:+0100
TZNAME:CET
DTSTART:20241027T010000
END:STANDARD
END:VTIMEZONE
BEGIN:VEVENT
DTSTART;TZID=Europe/Paris:20240216T090000
DTEND;TZID=Europe/Paris:20240216T170000
DTSTAMP:20260422T220624
CREATED:20220107T155512Z
LAST-MODIFIED:20240201T095454Z
UID:6636-1708074000-1708102800@www.cnam-hauts-de-france.fr
SUMMARY:Salon Apprentissage\, alternance et métiers - AMIENS
DESCRIPTION:L’alternance est la solution idéale pour décrocher un diplôme et se forger une première expérience professionnelle. \nVenez nous rencontrer sur ce salon Apprentissage\, alternance et métiers et découvrir notre offre de formations en alternance. \n+ d’info sur notre offre de formations et de services
URL:https://www.cnam-hauts-de-france.fr/event/salon-apprentissage-alternance-et-metiers-amiens-2/
LOCATION:Mégacité d’Amiens\, 101 Av. de l'Hippodrome\, Amiens\, 80000\, France
CATEGORIES:Salon formations / emploi
END:VEVENT
END:VCALENDAR