BEGIN:VCALENDAR
VERSION:2.0
PRODID:-//Cnam Hauts de France - ECPv6.2.9//NONSGML v1.0//EN
CALSCALE:GREGORIAN
METHOD:PUBLISH
X-ORIGINAL-URL:https://www.cnam-hauts-de-france.fr
X-WR-CALDESC:évènements pour Cnam Hauts de France
REFRESH-INTERVAL;VALUE=DURATION:PT1H
X-Robots-Tag:noindex
X-PUBLISHED-TTL:PT1H
BEGIN:VTIMEZONE
TZID:Europe/Paris
BEGIN:DAYLIGHT
TZOFFSETFROM:+0100
TZOFFSETTO:+0200
TZNAME:CEST
DTSTART:20240331T010000
END:DAYLIGHT
BEGIN:STANDARD
TZOFFSETFROM:+0200
TZOFFSETTO:+0100
TZNAME:CET
DTSTART:20241027T010000
END:STANDARD
END:VTIMEZONE
BEGIN:VEVENT
DTSTART;TZID=Europe/Paris:20240208T100000
DTEND;TZID=Europe/Paris:20240208T170000
DTSTAMP:20260422T220000
CREATED:20210913T134625Z
LAST-MODIFIED:20240201T094608Z
UID:6122-1707386400-1707411600@www.cnam-hauts-de-france.fr
SUMMARY:Salon JobFest - LILLE / LOMME
DESCRIPTION:Nous serons présent sur ce salon Emploi et formation pour vous présenter notre offre de formations en présentiel et à distance\, en alternance\, nos services d’accompagnement VAE et de Bilans de compétences. \n+ d’info sur notre offre de formations et de services
URL:https://www.cnam-hauts-de-france.fr/event/salon-jobfest-emploi-formation-lomme/
LOCATION:Kinepolis de LOMME\, 1 Rue du Château d'Isenghien\, Lomme\, LILLE\, 59160\, France
CATEGORIES:Salon formations / emploi
END:VEVENT
END:VCALENDAR