BEGIN:VCALENDAR
VERSION:2.0
PRODID:-//Cnam Hauts de France - ECPv6.2.9//NONSGML v1.0//EN
CALSCALE:GREGORIAN
METHOD:PUBLISH
X-ORIGINAL-URL:https://www.cnam-hauts-de-france.fr
X-WR-CALDESC:évènements pour Cnam Hauts de France
REFRESH-INTERVAL;VALUE=DURATION:PT1H
X-Robots-Tag:noindex
X-PUBLISHED-TTL:PT1H
BEGIN:VTIMEZONE
TZID:Europe/Paris
BEGIN:DAYLIGHT
TZOFFSETFROM:+0100
TZOFFSETTO:+0200
TZNAME:CEST
DTSTART:20230326T010000
END:DAYLIGHT
BEGIN:STANDARD
TZOFFSETFROM:+0200
TZOFFSETTO:+0100
TZNAME:CET
DTSTART:20231029T010000
END:STANDARD
END:VTIMEZONE
BEGIN:VEVENT
DTSTART;VALUE=DATE:20230912
DTEND;VALUE=DATE:20231015
DTSTAMP:20260423T053151
CREATED:20230912T070929Z
LAST-MODIFIED:20230912T074948Z
UID:16597-1694476800-1697327999@www.cnam-hauts-de-france.fr
SUMMARY:Infos. / Inscriptions - Formations 2023/2024
DESCRIPTION:Venez rencontrer nos conseillers et découvrir l’offre de formations 2023/2024 de plus de 700 parcours du Cnam\, pour se former tout au long de la vie.\n \nFormations en présentiel ou à distance\, en semaine en journée\, en cours du soir ou le samedi matin… voir les organisations possibles \nPériode d’information et d’inscriptions :\ndu 1er au 30 septembre 2023\, au centre d’Amiens (sur rdv)\ndu 11 septembre au 14 octobre 2023\, centres de Lille et de Valenciennes (sur rdv) \nContact au 0800 719 720 \n \nCentre d’Amiens – Avenue des Facultés – 03 22 33 65 50\nCentre de Lille – 5\, 7 et 8 Bd. Louis XIV – 03 20 29 86 68\nCentre de Valenciennes – 15 bis Place Jehan Froissart – 03 27 23 04 05
URL:https://www.cnam-hauts-de-france.fr/event/infos-inscriptions-formations-2023-2024/
CATEGORIES:Période d'Info/Inscriptions
END:VEVENT
END:VCALENDAR