BEGIN:VCALENDAR
VERSION:2.0
PRODID:-//Cnam Hauts de France - ECPv6.2.9//NONSGML v1.0//EN
CALSCALE:GREGORIAN
METHOD:PUBLISH
X-ORIGINAL-URL:https://www.cnam-hauts-de-france.fr
X-WR-CALDESC:évènements pour Cnam Hauts de France
REFRESH-INTERVAL;VALUE=DURATION:PT1H
X-Robots-Tag:noindex
X-PUBLISHED-TTL:PT1H
BEGIN:VTIMEZONE
TZID:Europe/Paris
BEGIN:DAYLIGHT
TZOFFSETFROM:+0100
TZOFFSETTO:+0200
TZNAME:CEST
DTSTART:20220327T010000
END:DAYLIGHT
BEGIN:STANDARD
TZOFFSETFROM:+0200
TZOFFSETTO:+0100
TZNAME:CET
DTSTART:20221030T010000
END:STANDARD
END:VTIMEZONE
BEGIN:VEVENT
DTSTART;TZID=Europe/Paris:20221119T090000
DTEND;TZID=Europe/Paris:20221119T130000
DTSTAMP:20260425T162504
CREATED:20221027T103103Z
LAST-MODIFIED:20221110T091447Z
UID:11409-1668848400-1668862800@www.cnam-hauts-de-france.fr
SUMMARY:Forum emploi / formations dans le domaine du transport et de la logistique - VALENCIENNES
DESCRIPTION:Nous serons présents au Forum LOG & PLAY\, spécialisé emploi et formations dans le domaine du transport et de la logistique \nle samedi 19 novembre de 9h à 13h à la Serre numérique\, 2 rue Peclet à Valenciennes. \nNous vous présenterons notre offre de formations en logistique\, en alternance ou en formation continue. \n+d’info sur ce forum : https://www.euralogistic.com/fr/evenements/agenda/28-forum-logplay-valenciennes-et-amiens.html \nEn savoir plus sur notre offre de formations et de services : https://www.cnam-hauts-de-france.fr/offre-de-formations-et-services/
URL:https://www.cnam-hauts-de-france.fr/event/forum-emploi-formations-dans-le-domaine-du-transport-et-de-la-logistique-valenciennes/
LOCATION:Serre numérique – Valenciennes\, 2 rue Peclet\, Valenciennes\, 59300\, France
CATEGORIES:Forum,Salon formations / emploi
END:VEVENT
END:VCALENDAR