BEGIN:VCALENDAR
VERSION:2.0
PRODID:-//Cnam Hauts de France - ECPv6.2.9//NONSGML v1.0//EN
CALSCALE:GREGORIAN
METHOD:PUBLISH
X-ORIGINAL-URL:https://www.cnam-hauts-de-france.fr
X-WR-CALDESC:évènements pour Cnam Hauts de France
REFRESH-INTERVAL;VALUE=DURATION:PT1H
X-Robots-Tag:noindex
X-PUBLISHED-TTL:PT1H
BEGIN:VTIMEZONE
TZID:Europe/Paris
BEGIN:DAYLIGHT
TZOFFSETFROM:+0100
TZOFFSETTO:+0200
TZNAME:CEST
DTSTART:20220327T010000
END:DAYLIGHT
BEGIN:STANDARD
TZOFFSETFROM:+0200
TZOFFSETTO:+0100
TZNAME:CET
DTSTART:20221030T010000
END:STANDARD
END:VTIMEZONE
BEGIN:VEVENT
DTSTART;TZID=Europe/Paris:20220503T090000
DTEND;TZID=Europe/Paris:20220503T130000
DTSTAMP:20260425T235232
CREATED:20220407T103100Z
LAST-MODIFIED:20220407T103100Z
UID:8110-1651568400-1651582800@www.cnam-hauts-de-france.fr
SUMMARY:Forum de l’Apprentissage - Saint-Saulve
DESCRIPTION:Venez rencontrer nos conseillers au Forum de l’Apprentissage\, et découvrir notre offre : + de 60 diplômes accessibles en alternance du bac+2 au bac+5 (Licences\, Masters\, Ingénieurs et titres professionnels) \n+d’info voir la liste des formations en alternance au Cnam Hauts de France \n#diplomes #alternance #apprentissage #formation
URL:https://www.cnam-hauts-de-france.fr/event/forum-de-lapprentissage-saint-saulve/
LOCATION:Salle des fêtes – Saint Saulve\, 8 Pl. Louis Maillard\, Saint-Saulve\, France
CATEGORIES:Forum
END:VEVENT
END:VCALENDAR